BEGIN:VCALENDAR
VERSION:2.0
PRODID:-//PNW Ride Network - ECPv6.15.12.2//NONSGML v1.0//EN
CALSCALE:GREGORIAN
METHOD:PUBLISH
X-WR-CALNAME:PNW Ride Network
X-ORIGINAL-URL:https://pnwridenetwork.com
X-WR-CALDESC:Events for PNW Ride Network
REFRESH-INTERVAL;VALUE=DURATION:PT1H
X-Robots-Tag:noindex
X-PUBLISHED-TTL:PT1H
BEGIN:VTIMEZONE
TZID:America/Los_Angeles
BEGIN:DAYLIGHT
TZOFFSETFROM:-0800
TZOFFSETTO:-0700
TZNAME:PDT
DTSTART:20250309T100000
END:DAYLIGHT
BEGIN:STANDARD
TZOFFSETFROM:-0700
TZOFFSETTO:-0800
TZNAME:PST
DTSTART:20251102T090000
END:STANDARD
BEGIN:DAYLIGHT
TZOFFSETFROM:-0800
TZOFFSETTO:-0700
TZNAME:PDT
DTSTART:20260308T100000
END:DAYLIGHT
BEGIN:STANDARD
TZOFFSETFROM:-0700
TZOFFSETTO:-0800
TZNAME:PST
DTSTART:20261101T090000
END:STANDARD
BEGIN:DAYLIGHT
TZOFFSETFROM:-0800
TZOFFSETTO:-0700
TZNAME:PDT
DTSTART:20270314T100000
END:DAYLIGHT
BEGIN:STANDARD
TZOFFSETFROM:-0700
TZOFFSETTO:-0800
TZNAME:PST
DTSTART:20271107T090000
END:STANDARD
END:VTIMEZONE
BEGIN:VEVENT
DTSTART;TZID=America/Los_Angeles:20261018T000000
DTEND;TZID=America/Los_Angeles:20261018T000000
DTSTAMP:20260419T140014
CREATED:20260203T021305Z
LAST-MODIFIED:20260203T043416Z
UID:10001128-1792281600-1792281600@pnwridenetwork.com
SUMMARY:Tripleshot Cross Fondo
DESCRIPTION:
URL:https://pnwridenetwork.com/ridecalendar/tripleshot-cross-fondo/
LOCATION:Vancouver Island Technology Park\, 4464 Markham Street\, Victoria\, BC\, V8Z 7X8\, Canada
CATEGORIES:Gravel,Race
GEO:48.4935557;-123.4112406
X-APPLE-STRUCTURED-LOCATION;VALUE=URI;X-ADDRESS=Vancouver Island Technology Park 4464 Markham Street Victoria BC V8Z 7X8 Canada;X-APPLE-RADIUS=500;X-TITLE=4464 Markham Street:geo:-123.4112406,48.4935557
END:VEVENT
END:VCALENDAR