BEGIN:VCALENDAR
VERSION:2.0
PRODID:-//PNW Ride Network - ECPv6.15.12.2//NONSGML v1.0//EN
CALSCALE:GREGORIAN
METHOD:PUBLISH
X-ORIGINAL-URL:https://pnwridenetwork.com
X-WR-CALDESC:Events for PNW Ride Network
REFRESH-INTERVAL;VALUE=DURATION:PT1H
X-Robots-Tag:noindex
X-PUBLISHED-TTL:PT1H
BEGIN:VTIMEZONE
TZID:America/Los_Angeles
BEGIN:DAYLIGHT
TZOFFSETFROM:-0800
TZOFFSETTO:-0700
TZNAME:PDT
DTSTART:20250309T100000
END:DAYLIGHT
BEGIN:STANDARD
TZOFFSETFROM:-0700
TZOFFSETTO:-0800
TZNAME:PST
DTSTART:20251102T090000
END:STANDARD
BEGIN:DAYLIGHT
TZOFFSETFROM:-0800
TZOFFSETTO:-0700
TZNAME:PDT
DTSTART:20260308T100000
END:DAYLIGHT
BEGIN:STANDARD
TZOFFSETFROM:-0700
TZOFFSETTO:-0800
TZNAME:PST
DTSTART:20261101T090000
END:STANDARD
BEGIN:DAYLIGHT
TZOFFSETFROM:-0800
TZOFFSETTO:-0700
TZNAME:PDT
DTSTART:20270314T100000
END:DAYLIGHT
BEGIN:STANDARD
TZOFFSETFROM:-0700
TZOFFSETTO:-0800
TZNAME:PST
DTSTART:20271107T090000
END:STANDARD
END:VTIMEZONE
BEGIN:VEVENT
DTSTART;TZID=America/Los_Angeles:20261006T000000
DTEND;TZID=America/Los_Angeles:20261006T235959
DTSTAMP:20260419T054902
CREATED:20260203T022201Z
LAST-MODIFIED:20260203T224913Z
UID:10001264-1791244800-1791331199@pnwridenetwork.com
SUMMARY:Portland Trophy Cup
DESCRIPTION:
URL:https://pnwridenetwork.com/ridecalendar/portland-trophy-cup-week-1/2026-10-06/
LOCATION:Portland International Raceway(PIR)\, 1940 North Victory Boulevard\, Portland\, OR\, 97217\, United States
CATEGORIES:Cyclocross,Race
ATTACH;FMTTYPE=image/webp:https://pnwridenetwork.com/wp-content/uploads/2026/02/PortlandTrophyCup2025HorizontalLogoTRANSPARENTBACKGROUND.webp
GEO:45.5966998;-122.6867531
X-APPLE-STRUCTURED-LOCATION;VALUE=URI;X-ADDRESS=Portland International Raceway(PIR) 1940 North Victory Boulevard Portland OR 97217 United States;X-APPLE-RADIUS=500;X-TITLE=1940 North Victory Boulevard:geo:-122.6867531,45.5966998
END:VEVENT
BEGIN:VEVENT
DTSTART;TZID=America/Los_Angeles:20261008T180000
DTEND;TZID=America/Los_Angeles:20261008T193000
DTSTAMP:20260419T054902
CREATED:20260413T223641Z
LAST-MODIFIED:20260413T223642Z
UID:10001300-1791482400-1791487800@pnwridenetwork.com
SUMMARY:Weekly BWOL road ride
DESCRIPTION:Every Thursday night\, we will be hosting a road ride starting at Bicycle Way Of Life on Charnelton. Meeting at 5:45 and leaving at 6pm\, we will ride for approximately 90 minutes. Rides each week will change depending on the group.
URL:https://pnwridenetwork.com/ridecalendar/weekly-bwol-road-ride/2026-10-08/
LOCATION:Bicycle Way of Life\, 556 Charnelton St\, Eugene\, OR 97401\, Eugene\, Oregon\, 97401\, United States
CATEGORIES:Road
ATTACH;FMTTYPE=image/jpeg:https://pnwridenetwork.com/wp-content/uploads/2026/04/1000006877.jpg
END:VEVENT
END:VCALENDAR