BEGIN:VCALENDAR
VERSION:2.0
PRODID:-//PNW Ride Network - ECPv6.15.12.2//NONSGML v1.0//EN
CALSCALE:GREGORIAN
METHOD:PUBLISH
X-ORIGINAL-URL:https://pnwridenetwork.com
X-WR-CALDESC:Events for PNW Ride Network
REFRESH-INTERVAL;VALUE=DURATION:PT1H
X-Robots-Tag:noindex
X-PUBLISHED-TTL:PT1H
BEGIN:VTIMEZONE
TZID:America/Los_Angeles
BEGIN:DAYLIGHT
TZOFFSETFROM:-0800
TZOFFSETTO:-0700
TZNAME:PDT
DTSTART:20250309T100000
END:DAYLIGHT
BEGIN:STANDARD
TZOFFSETFROM:-0700
TZOFFSETTO:-0800
TZNAME:PST
DTSTART:20251102T090000
END:STANDARD
BEGIN:DAYLIGHT
TZOFFSETFROM:-0800
TZOFFSETTO:-0700
TZNAME:PDT
DTSTART:20260308T100000
END:DAYLIGHT
BEGIN:STANDARD
TZOFFSETFROM:-0700
TZOFFSETTO:-0800
TZNAME:PST
DTSTART:20261101T090000
END:STANDARD
BEGIN:DAYLIGHT
TZOFFSETFROM:-0800
TZOFFSETTO:-0700
TZNAME:PDT
DTSTART:20270314T100000
END:DAYLIGHT
BEGIN:STANDARD
TZOFFSETFROM:-0700
TZOFFSETTO:-0800
TZNAME:PST
DTSTART:20271107T090000
END:STANDARD
END:VTIMEZONE
BEGIN:VEVENT
DTSTART;TZID=America/Los_Angeles:20260908T000000
DTEND;TZID=America/Los_Angeles:20260908T235959
DTSTAMP:20260419T092135
CREATED:20260203T022201Z
LAST-MODIFIED:20260203T224913Z
UID:10001260-1788825600-1788911999@pnwridenetwork.com
SUMMARY:Portland Trophy Cup
DESCRIPTION:
URL:https://pnwridenetwork.com/ridecalendar/portland-trophy-cup-week-1/2026-09-08/
LOCATION:Portland International Raceway(PIR)\, 1940 North Victory Boulevard\, Portland\, OR\, 97217\, United States
CATEGORIES:Cyclocross,Race
ATTACH;FMTTYPE=image/webp:https://pnwridenetwork.com/wp-content/uploads/2026/02/PortlandTrophyCup2025HorizontalLogoTRANSPARENTBACKGROUND.webp
GEO:45.5966998;-122.6867531
X-APPLE-STRUCTURED-LOCATION;VALUE=URI;X-ADDRESS=Portland International Raceway(PIR) 1940 North Victory Boulevard Portland OR 97217 United States;X-APPLE-RADIUS=500;X-TITLE=1940 North Victory Boulevard:geo:-122.6867531,45.5966998
END:VEVENT
BEGIN:VEVENT
DTSTART;TZID=America/Los_Angeles:20260909T000000
DTEND;TZID=America/Los_Angeles:20260909T235959
DTSTAMP:20260419T092135
CREATED:20260203T022159Z
LAST-MODIFIED:20260203T221329Z
UID:10001256-1788912000-1788998399@pnwridenetwork.com
SUMMARY:Twilight Cyclocross Series
DESCRIPTION:
URL:https://pnwridenetwork.com/ridecalendar/twilight-cyclocross-series-week-1/2026-09-09/
LOCATION:Oak Hill School\, 86397 Eldon Schafer Dr\, Eugene\, OR\, 97405\, United States
CATEGORIES:Cyclocross,Race
ATTACH;FMTTYPE=image/jpeg:https://pnwridenetwork.com/wp-content/uploads/2026/02/547154482_1126288969605307_7494723750077060220_n.jpg
GEO:44.0079903;-123.0262376
X-APPLE-STRUCTURED-LOCATION;VALUE=URI;X-ADDRESS=Oak Hill School 86397 Eldon Schafer Dr Eugene OR 97405 United States;X-APPLE-RADIUS=500;X-TITLE=86397 Eldon Schafer Dr:geo:-123.0262376,44.0079903
END:VEVENT
BEGIN:VEVENT
DTSTART;TZID=America/Los_Angeles:20260909T000000
DTEND;TZID=America/Los_Angeles:20260909T235959
DTSTAMP:20260419T092135
CREATED:20260203T022214Z
LAST-MODIFIED:20260203T225307Z
UID:10001266-1788912000-1788998399@pnwridenetwork.com
SUMMARY:Thrilla CX Week 1
DESCRIPTION:
URL:https://pnwridenetwork.com/ridecalendar/thrilla-cx-week-1/2026-09-09/
LOCATION:Athletic Club of Bend\, 61615 Athletic Club Drive\, Bend\, OR\, 97703\, United States
CATEGORIES:Cyclocross,Race
ATTACH;FMTTYPE=image/jpeg:https://pnwridenetwork.com/wp-content/uploads/2026/02/corncross_statechamps_tallblacksocks_giro.jpg
GEO:44.0361407;-121.3363093
X-APPLE-STRUCTURED-LOCATION;VALUE=URI;X-ADDRESS=Athletic Club of Bend 61615 Athletic Club Drive Bend OR 97703 United States;X-APPLE-RADIUS=500;X-TITLE=61615 Athletic Club Drive:geo:-121.3363093,44.0361407
END:VEVENT
BEGIN:VEVENT
DTSTART;TZID=America/Los_Angeles:20260909T000000
DTEND;TZID=America/Los_Angeles:20260912T000000
DTSTAMP:20260419T092135
CREATED:20260203T021010Z
LAST-MODIFIED:20260203T021010Z
UID:10001097-1788912000-1789171200@pnwridenetwork.com
SUMMARY:Rebecca's Private Idaho
DESCRIPTION:
URL:https://pnwridenetwork.com/ridecalendar/rebeccas-private-idaho/
LOCATION:Limelight Hotel\, 151 Main St S\, Ketchum\, ID\, 83340\, United States
CATEGORIES:Gravel,Race,Stage-Race
GEO:39.2093169;-106.9475015
X-APPLE-STRUCTURED-LOCATION;VALUE=URI;X-ADDRESS=Limelight Hotel 151 Main St S Ketchum ID 83340 United States;X-APPLE-RADIUS=500;X-TITLE=151 Main St S:geo:-106.9475015,39.2093169
END:VEVENT
BEGIN:VEVENT
DTSTART;TZID=America/Los_Angeles:20260910T180000
DTEND;TZID=America/Los_Angeles:20260910T193000
DTSTAMP:20260419T092135
CREATED:20260413T223641Z
LAST-MODIFIED:20260413T223642Z
UID:10001296-1789063200-1789068600@pnwridenetwork.com
SUMMARY:Weekly BWOL road ride
DESCRIPTION:Every Thursday night\, we will be hosting a road ride starting at Bicycle Way Of Life on Charnelton. Meeting at 5:45 and leaving at 6pm\, we will ride for approximately 90 minutes. Rides each week will change depending on the group.
URL:https://pnwridenetwork.com/ridecalendar/weekly-bwol-road-ride/2026-09-10/
LOCATION:Bicycle Way of Life\, 556 Charnelton St\, Eugene\, OR 97401\, Eugene\, Oregon\, 97401\, United States
CATEGORIES:Road
ATTACH;FMTTYPE=image/jpeg:https://pnwridenetwork.com/wp-content/uploads/2026/04/1000006877.jpg
END:VEVENT
BEGIN:VEVENT
DTSTART;TZID=America/Los_Angeles:20260912T000000
DTEND;TZID=America/Los_Angeles:20260912T000000
DTSTAMP:20260419T092136
CREATED:20260203T021242Z
LAST-MODIFIED:20260203T021242Z
UID:10001125-1789171200-1789171200@pnwridenetwork.com
SUMMARY:September TheBluMoose Gravel
DESCRIPTION:
URL:https://pnwridenetwork.com/ridecalendar/september-theblumoose-gravel/
LOCATION:Oregon
CATEGORIES:Gravel,Race
END:VEVENT
BEGIN:VEVENT
DTSTART;TZID=America/Los_Angeles:20260912T000000
DTEND;TZID=America/Los_Angeles:20260912T000000
DTSTAMP:20260419T092136
CREATED:20260203T021242Z
LAST-MODIFIED:20260203T021242Z
UID:10001126-1789171200-1789171200@pnwridenetwork.com
SUMMARY:Gran Fondo Whistler
DESCRIPTION:
URL:https://pnwridenetwork.com/ridecalendar/gran-fondo-whistler/
LOCATION:Oregon
CATEGORIES:Race,Road
END:VEVENT
BEGIN:VEVENT
DTSTART;TZID=America/Los_Angeles:20260912T000000
DTEND;TZID=America/Los_Angeles:20260912T000000
DTSTAMP:20260419T092136
CREATED:20260203T021725Z
LAST-MODIFIED:20260203T021725Z
UID:10001148-1789171200-1789171200@pnwridenetwork.com
SUMMARY:Grinduro!
DESCRIPTION:
URL:https://pnwridenetwork.com/ridecalendar/grinduro/
LOCATION:Oregon
CATEGORIES:Gravel,Race,Stage-Race
END:VEVENT
BEGIN:VEVENT
DTSTART;TZID=America/Los_Angeles:20260912T000000
DTEND;TZID=America/Los_Angeles:20260912T235959
DTSTAMP:20260419T092136
CREATED:20260203T020848Z
LAST-MODIFIED:20260203T025446Z
UID:10001083-1789171200-1789257599@pnwridenetwork.com
SUMMARY:The Lost Coast Hopper
DESCRIPTION:
URL:https://pnwridenetwork.com/ridecalendar/the-lost-coast-hopper/
LOCATION:Usal Beach Campground\, Usal Rd\, Whitehorn\, CA\, 95589\, United States
CATEGORIES:Gravel,Race
GEO:39.8317707;-123.8471395
X-APPLE-STRUCTURED-LOCATION;VALUE=URI;X-ADDRESS=Usal Beach Campground Usal Rd Whitehorn CA 95589 United States;X-APPLE-RADIUS=500;X-TITLE=Usal Rd:geo:-123.8471395,39.8317707
END:VEVENT
END:VCALENDAR