BEGIN:VCALENDAR
VERSION:2.0
PRODID:-//PNW Ride Network - ECPv6.15.12.2//NONSGML v1.0//EN
CALSCALE:GREGORIAN
METHOD:PUBLISH
X-WR-CALNAME:PNW Ride Network
X-ORIGINAL-URL:https://pnwridenetwork.com
X-WR-CALDESC:Events for PNW Ride Network
REFRESH-INTERVAL;VALUE=DURATION:PT1H
X-Robots-Tag:noindex
X-PUBLISHED-TTL:PT1H
BEGIN:VTIMEZONE
TZID:America/Los_Angeles
BEGIN:DAYLIGHT
TZOFFSETFROM:-0800
TZOFFSETTO:-0700
TZNAME:PDT
DTSTART:20250309T100000
END:DAYLIGHT
BEGIN:STANDARD
TZOFFSETFROM:-0700
TZOFFSETTO:-0800
TZNAME:PST
DTSTART:20251102T090000
END:STANDARD
BEGIN:DAYLIGHT
TZOFFSETFROM:-0800
TZOFFSETTO:-0700
TZNAME:PDT
DTSTART:20260308T100000
END:DAYLIGHT
BEGIN:STANDARD
TZOFFSETFROM:-0700
TZOFFSETTO:-0800
TZNAME:PST
DTSTART:20261101T090000
END:STANDARD
BEGIN:DAYLIGHT
TZOFFSETFROM:-0800
TZOFFSETTO:-0700
TZNAME:PDT
DTSTART:20270314T100000
END:DAYLIGHT
BEGIN:STANDARD
TZOFFSETFROM:-0700
TZOFFSETTO:-0800
TZNAME:PST
DTSTART:20271107T090000
END:STANDARD
END:VTIMEZONE
BEGIN:VEVENT
DTSTART;TZID=America/Los_Angeles:20260810T000000
DTEND;TZID=America/Los_Angeles:20260810T235959
DTSTAMP:20260422T191042
CREATED:20260203T021412Z
LAST-MODIFIED:20260203T031619Z
UID:10001132-1786320000-1786406399@pnwridenetwork.com
SUMMARY:Switchblade CX
DESCRIPTION:
URL:https://pnwridenetwork.com/ridecalendar/switchblade-cx/
LOCATION:Liepold Farms\, 14050 SE Richey Rd\, Boring\, OR\, 97009\, United States
CATEGORIES:Cyclocross,Race
GEO:45.417845;-122.378025
X-APPLE-STRUCTURED-LOCATION;VALUE=URI;X-ADDRESS=Liepold Farms 14050 SE Richey Rd Boring OR 97009 United States;X-APPLE-RADIUS=500;X-TITLE=14050 SE Richey Rd:geo:-122.378025,45.417845
END:VEVENT
BEGIN:VEVENT
DTSTART;TZID=America/Los_Angeles:20260813T180000
DTEND;TZID=America/Los_Angeles:20260813T193000
DTSTAMP:20260422T191042
CREATED:20260413T223641Z
LAST-MODIFIED:20260413T223642Z
UID:10001292-1786644000-1786649400@pnwridenetwork.com
SUMMARY:Weekly BWOL road ride
DESCRIPTION:Every Thursday night\, we will be hosting a road ride starting at Bicycle Way Of Life on Charnelton. Meeting at 5:45 and leaving at 6pm\, we will ride for approximately 90 minutes. Rides each week will change depending on the group.
URL:https://pnwridenetwork.com/ridecalendar/weekly-bwol-road-ride/2026-08-13/
LOCATION:Bicycle Way of Life\, 556 Charnelton St\, Eugene\, OR 97401\, Eugene\, Oregon\, 97401\, United States
CATEGORIES:Road
ATTACH;FMTTYPE=image/jpeg:https://pnwridenetwork.com/wp-content/uploads/2026/04/1000006877.jpg
GEO:44.0536875;-123.0961984
X-APPLE-STRUCTURED-LOCATION;VALUE=URI;X-ADDRESS=Bicycle Way of Life 556 Charnelton St Eugene OR 97401 Eugene Oregon 97401 United States;X-APPLE-RADIUS=500;X-TITLE=556 Charnelton St\, Eugene\, OR 97401:geo:-123.0961984,44.0536875
END:VEVENT
BEGIN:VEVENT
DTSTART;TZID=America/Los_Angeles:20260815T000000
DTEND;TZID=America/Los_Angeles:20260815T000000
DTSTAMP:20260422T191042
CREATED:20260203T021241Z
LAST-MODIFIED:20260203T021241Z
UID:10001124-1786752000-1786752000@pnwridenetwork.com
SUMMARY:Tour de Victoria
DESCRIPTION:
URL:https://pnwridenetwork.com/ridecalendar/tour-de-victoria/
LOCATION:British Columbia Parliament Buildings\, 501 Belleville Street\, Victoria\, BC\, V8V 1X4\, Canada
CATEGORIES:Road
GEO:48.4196283;-123.3702583
X-APPLE-STRUCTURED-LOCATION;VALUE=URI;X-ADDRESS=British Columbia Parliament Buildings 501 Belleville Street Victoria BC V8V 1X4 Canada;X-APPLE-RADIUS=500;X-TITLE=501 Belleville Street:geo:-123.3702583,48.4196283
END:VEVENT
BEGIN:VEVENT
DTSTART;TZID=America/Los_Angeles:20260815T000000
DTEND;TZID=America/Los_Angeles:20260815T235959
DTSTAMP:20260422T191042
CREATED:20260203T022156Z
LAST-MODIFIED:20260203T220037Z
UID:10001196-1786752000-1786838399@pnwridenetwork.com
SUMMARY:Portland Criterium Day 1
DESCRIPTION:
URL:https://pnwridenetwork.com/ridecalendar/portland-criterium-day-1/
LOCATION:Portland North Park Blocks\, NW 8th Ave & NW Everett St\, Portland\, OR\, 97209\, United States
CATEGORIES:Criterium,Race
ATTACH;FMTTYPE=image/webp:https://pnwridenetwork.com/wp-content/uploads/2026/02/pdx-crit-254.webp
GEO:45.5249277;-122.6788315
X-APPLE-STRUCTURED-LOCATION;VALUE=URI;X-ADDRESS=Portland North Park Blocks NW 8th Ave & NW Everett St Portland OR 97209 United States;X-APPLE-RADIUS=500;X-TITLE=NW 8th Ave & NW Everett St:geo:-122.6788315,45.5249277
END:VEVENT
BEGIN:VEVENT
DTSTART;TZID=America/Los_Angeles:20260816T000000
DTEND;TZID=America/Los_Angeles:20260816T235959
DTSTAMP:20260422T191042
CREATED:20260203T022159Z
LAST-MODIFIED:20260203T220311Z
UID:10001197-1786838400-1786924799@pnwridenetwork.com
SUMMARY:Portland Criterium Day 2
DESCRIPTION:
URL:https://pnwridenetwork.com/ridecalendar/portland-criterium-day-2/
LOCATION:Lloyd District Criterium\, NE Multnomah St & NE 11th Ave\, Portland\, OR\, 97232\, United States
CATEGORIES:Criterium,Race
ATTACH;FMTTYPE=image/webp:https://pnwridenetwork.com/wp-content/uploads/2026/02/pdx-crit-254.webp
GEO:45.5315089;-122.6616688
X-APPLE-STRUCTURED-LOCATION;VALUE=URI;X-ADDRESS=Lloyd District Criterium NE Multnomah St & NE 11th Ave Portland OR 97232 United States;X-APPLE-RADIUS=500;X-TITLE=NE Multnomah St & NE 11th Ave:geo:-122.6616688,45.5315089
END:VEVENT
END:VCALENDAR