BEGIN:VCALENDAR
VERSION:2.0
PRODID:-//PNW Ride Network - ECPv6.15.12.2//NONSGML v1.0//EN
CALSCALE:GREGORIAN
METHOD:PUBLISH
X-WR-CALNAME:PNW Ride Network
X-ORIGINAL-URL:https://pnwridenetwork.com
X-WR-CALDESC:Events for PNW Ride Network
REFRESH-INTERVAL;VALUE=DURATION:PT1H
X-Robots-Tag:noindex
X-PUBLISHED-TTL:PT1H
BEGIN:VTIMEZONE
TZID:America/Los_Angeles
BEGIN:DAYLIGHT
TZOFFSETFROM:-0800
TZOFFSETTO:-0700
TZNAME:PDT
DTSTART:20250309T100000
END:DAYLIGHT
BEGIN:STANDARD
TZOFFSETFROM:-0700
TZOFFSETTO:-0800
TZNAME:PST
DTSTART:20251102T090000
END:STANDARD
BEGIN:DAYLIGHT
TZOFFSETFROM:-0800
TZOFFSETTO:-0700
TZNAME:PDT
DTSTART:20260308T100000
END:DAYLIGHT
BEGIN:STANDARD
TZOFFSETFROM:-0700
TZOFFSETTO:-0800
TZNAME:PST
DTSTART:20261101T090000
END:STANDARD
BEGIN:DAYLIGHT
TZOFFSETFROM:-0800
TZOFFSETTO:-0700
TZNAME:PDT
DTSTART:20270314T100000
END:DAYLIGHT
BEGIN:STANDARD
TZOFFSETFROM:-0700
TZOFFSETTO:-0800
TZNAME:PST
DTSTART:20271107T090000
END:STANDARD
END:VTIMEZONE
BEGIN:VEVENT
DTSTART;TZID=America/Los_Angeles:20260705T000000
DTEND;TZID=America/Los_Angeles:20260707T000000
DTSTAMP:20260419T162730
CREATED:20260203T021420Z
LAST-MODIFIED:20260203T021420Z
UID:10001141-1783209600-1783382400@pnwridenetwork.com
SUMMARY:Northwest Tandem Rally
DESCRIPTION:
URL:https://pnwridenetwork.com/ridecalendar/northwest-tandem-rally/
LOCATION:Bohemia Park\, 101 North 10th Street\, Cottage Grove\, OR\, 97424\, United States
CATEGORIES:Community Event,Road
GEO:43.7945457;-123.0590304
X-APPLE-STRUCTURED-LOCATION;VALUE=URI;X-ADDRESS=Bohemia Park 101 North 10th Street Cottage Grove OR 97424 United States;X-APPLE-RADIUS=500;X-TITLE=101 North 10th Street:geo:-123.0590304,43.7945457
END:VEVENT
BEGIN:VEVENT
DTSTART;TZID=America/Los_Angeles:20260708T000000
DTEND;TZID=America/Los_Angeles:20260708T000000
DTSTAMP:20260419T162730
CREATED:20260203T021418Z
LAST-MODIFIED:20260203T021418Z
UID:10001138-1783468800-1783468800@pnwridenetwork.com
SUMMARY:Mt. Tabor Series Week 6
DESCRIPTION:
URL:https://pnwridenetwork.com/ridecalendar/mt-tabor-series-week-6/
LOCATION:Mt. Tabor Park\, SE 60th Ave & SE Salmon St\, Portland\, OR\, 97215\, United States
CATEGORIES:Race,Road
GEO:45.5112549;-122.5958201
X-APPLE-STRUCTURED-LOCATION;VALUE=URI;X-ADDRESS=Mt. Tabor Park SE 60th Ave & SE Salmon St Portland OR 97215 United States;X-APPLE-RADIUS=500;X-TITLE=SE 60th Ave & SE Salmon St:geo:-122.5958201,45.5112549
END:VEVENT
BEGIN:VEVENT
DTSTART;TZID=America/Los_Angeles:20260708T000000
DTEND;TZID=America/Los_Angeles:20260708T235959
DTSTAMP:20260419T162730
CREATED:20260203T022057Z
LAST-MODIFIED:20260203T071916Z
UID:10001252-1783468800-1783555199@pnwridenetwork.com
SUMMARY:Bend Summer Criterium Series
DESCRIPTION:
URL:https://pnwridenetwork.com/ridecalendar/bend-summer-criterium-series/2026-07-08/
LOCATION:Downtown Bend Criterium Course\, 835 NW Wall St\, Bend\, OR\, 97703\, United States
CATEGORIES:Criterium,Race
ATTACH;FMTTYPE=image/webp:https://pnwridenetwork.com/wp-content/uploads/2026/02/IMG_3036.webp
GEO:44.0581728;-121.3153096
X-APPLE-STRUCTURED-LOCATION;VALUE=URI;X-ADDRESS=Downtown Bend Criterium Course 835 NW Wall St Bend OR 97703 United States;X-APPLE-RADIUS=500;X-TITLE=835 NW Wall St:geo:-121.3153096,44.0581728
END:VEVENT
BEGIN:VEVENT
DTSTART;TZID=America/Los_Angeles:20260708T000000
DTEND;TZID=America/Los_Angeles:20260712T000000
DTSTAMP:20260419T162730
CREATED:20260203T020832Z
LAST-MODIFIED:20260203T020832Z
UID:10001077-1783468800-1783814400@pnwridenetwork.com
SUMMARY:Oregon Trail Gravel
DESCRIPTION:
URL:https://pnwridenetwork.com/ridecalendar/oregon-trail-gravel/
LOCATION:Oregon
CATEGORIES:Gravel,Race,Stage-Race
ORGANIZER;CN="Breakaway Promotions":MAILTO:grinderinfo@breakawaypro.com
END:VEVENT
BEGIN:VEVENT
DTSTART;TZID=America/Los_Angeles:20260709T180000
DTEND;TZID=America/Los_Angeles:20260709T193000
DTSTAMP:20260419T162730
CREATED:20260413T223641Z
LAST-MODIFIED:20260413T223642Z
UID:10001287-1783620000-1783625400@pnwridenetwork.com
SUMMARY:Weekly BWOL road ride
DESCRIPTION:Every Thursday night\, we will be hosting a road ride starting at Bicycle Way Of Life on Charnelton. Meeting at 5:45 and leaving at 6pm\, we will ride for approximately 90 minutes. Rides each week will change depending on the group.
URL:https://pnwridenetwork.com/ridecalendar/weekly-bwol-road-ride/2026-07-09/
LOCATION:Bicycle Way of Life\, 556 Charnelton St\, Eugene\, OR 97401\, Eugene\, Oregon\, 97401\, United States
CATEGORIES:Road
ATTACH;FMTTYPE=image/jpeg:https://pnwridenetwork.com/wp-content/uploads/2026/04/1000006877.jpg
END:VEVENT
BEGIN:VEVENT
DTSTART;TZID=America/Los_Angeles:20260711T000000
DTEND;TZID=America/Los_Angeles:20260711T000000
DTSTAMP:20260419T162730
CREATED:20260203T020905Z
LAST-MODIFIED:20260203T020905Z
UID:10001091-1783728000-1783728000@pnwridenetwork.com
SUMMARY:Bend Dirt Fest
DESCRIPTION:
URL:https://pnwridenetwork.com/ridecalendar/bend-dirt-fest/
LOCATION:Athletic Club of Bend\, 61615 Athletic Club Drive\, Bend\, OR\, 97703\, United States
CATEGORIES:Community Event,Gravel,MTB
ORGANIZER;CN="Mudslinger Events":MAILTO:mike@mudslingerevents.com
GEO:44.0361407;-121.3363093
X-APPLE-STRUCTURED-LOCATION;VALUE=URI;X-ADDRESS=Athletic Club of Bend 61615 Athletic Club Drive Bend OR 97703 United States;X-APPLE-RADIUS=500;X-TITLE=61615 Athletic Club Drive:geo:-121.3363093,44.0361407
END:VEVENT
BEGIN:VEVENT
DTSTART;TZID=America/Los_Angeles:20260711T000000
DTEND;TZID=America/Los_Angeles:20260712T000000
DTSTAMP:20260419T162730
CREATED:20260203T021004Z
LAST-MODIFIED:20260203T021004Z
UID:10001092-1783728000-1783814400@pnwridenetwork.com
SUMMARY:Seattle to Portland Day 1
DESCRIPTION:
URL:https://pnwridenetwork.com/ridecalendar/seattle-to-portland-day-1/
LOCATION:Oregon
CATEGORIES:Road
ORGANIZER;CN="Cascade Bicycle Club":MAILTO:info@cascade.org
END:VEVENT
BEGIN:VEVENT
DTSTART;TZID=America/Los_Angeles:20260712T000000
DTEND;TZID=America/Los_Angeles:20260712T000000
DTSTAMP:20260419T162730
CREATED:20260203T021005Z
LAST-MODIFIED:20260203T021005Z
UID:10001093-1783814400-1783814400@pnwridenetwork.com
SUMMARY:Seattle to Portland Day 2
DESCRIPTION:
URL:https://pnwridenetwork.com/ridecalendar/seattle-to-portland-day-2/
LOCATION:Oregon
CATEGORIES:Road
ORGANIZER;CN="Cascade Bicycle Club":MAILTO:info@cascade.org
END:VEVENT
END:VCALENDAR