BEGIN:VCALENDAR
VERSION:2.0
PRODID:-//PNW Ride Network - ECPv6.15.12.2//NONSGML v1.0//EN
CALSCALE:GREGORIAN
METHOD:PUBLISH
X-WR-CALNAME:PNW Ride Network
X-ORIGINAL-URL:https://pnwridenetwork.com
X-WR-CALDESC:Events for PNW Ride Network
REFRESH-INTERVAL;VALUE=DURATION:PT1H
X-Robots-Tag:noindex
X-PUBLISHED-TTL:PT1H
BEGIN:VTIMEZONE
TZID:America/Los_Angeles
BEGIN:DAYLIGHT
TZOFFSETFROM:-0800
TZOFFSETTO:-0700
TZNAME:PDT
DTSTART:20250309T100000
END:DAYLIGHT
BEGIN:STANDARD
TZOFFSETFROM:-0700
TZOFFSETTO:-0800
TZNAME:PST
DTSTART:20251102T090000
END:STANDARD
BEGIN:DAYLIGHT
TZOFFSETFROM:-0800
TZOFFSETTO:-0700
TZNAME:PDT
DTSTART:20260308T100000
END:DAYLIGHT
BEGIN:STANDARD
TZOFFSETFROM:-0700
TZOFFSETTO:-0800
TZNAME:PST
DTSTART:20261101T090000
END:STANDARD
BEGIN:DAYLIGHT
TZOFFSETFROM:-0800
TZOFFSETTO:-0700
TZNAME:PDT
DTSTART:20270314T100000
END:DAYLIGHT
BEGIN:STANDARD
TZOFFSETFROM:-0700
TZOFFSETTO:-0800
TZNAME:PST
DTSTART:20271107T090000
END:STANDARD
END:VTIMEZONE
BEGIN:VEVENT
DTSTART;TZID=America/Los_Angeles:20260601T163000
DTEND;TZID=America/Los_Angeles:20260601T200000
DTSTAMP:20260422T153947
CREATED:20260203T021857Z
LAST-MODIFIED:20260203T042800Z
UID:10001228-1780331400-1780344000@pnwridenetwork.com
SUMMARY:Monday Night PIR
DESCRIPTION:
URL:https://pnwridenetwork.com/ridecalendar/monday-night-pir-week-1/2026-06-01/
LOCATION:Portland International Raceway(PIR)\, 1940 North Victory Boulevard\, Portland\, OR\, 97217\, United States
CATEGORIES:Race,Road
ATTACH;FMTTYPE=image/png:https://pnwridenetwork.com/wp-content/uploads/2026/02/image-10.png
GEO:45.5966998;-122.6867531
X-APPLE-STRUCTURED-LOCATION;VALUE=URI;X-ADDRESS=Portland International Raceway(PIR) 1940 North Victory Boulevard Portland OR 97217 United States;X-APPLE-RADIUS=500;X-TITLE=1940 North Victory Boulevard:geo:-122.6867531,45.5966998
END:VEVENT
BEGIN:VEVENT
DTSTART;TZID=America/Los_Angeles:20260602T000000
DTEND;TZID=America/Los_Angeles:20260602T000000
DTSTAMP:20260422T153947
CREATED:20260203T021912Z
LAST-MODIFIED:20260224T154127Z
UID:10001234-1780358400-1780358400@pnwridenetwork.com
SUMMARY:Tuesday Night PIR
DESCRIPTION:
URL:https://pnwridenetwork.com/ridecalendar/tuesday-night-pir-week-1/2026-06-02/
LOCATION:Portland International Raceway(PIR)\, 1940 North Victory Boulevard\, Portland\, OR\, 97217\, United States
CATEGORIES:Race,Road
ATTACH;FMTTYPE=image/png:https://pnwridenetwork.com/wp-content/uploads/2026/02/image-11-1.png
GEO:45.5966998;-122.6867531
X-APPLE-STRUCTURED-LOCATION;VALUE=URI;X-ADDRESS=Portland International Raceway(PIR) 1940 North Victory Boulevard Portland OR 97217 United States;X-APPLE-RADIUS=500;X-TITLE=1940 North Victory Boulevard:geo:-122.6867531,45.5966998
END:VEVENT
BEGIN:VEVENT
DTSTART;TZID=America/Los_Angeles:20260602T000000
DTEND;TZID=America/Los_Angeles:20260602T235959
DTSTAMP:20260422T153947
CREATED:20260203T022028Z
LAST-MODIFIED:20260203T070855Z
UID:10001247-1780358400-1780444799@pnwridenetwork.com
SUMMARY:Twilight Ops McBeth Hill Climb Series
DESCRIPTION:
URL:https://pnwridenetwork.com/ridecalendar/mcbeth-hill-climb-series-week-1/2026-06-02/
LOCATION:Spencer Creek Grange\, 86013 Lorane Hwy\, Eugene\, OR\, 97405\, United States
CATEGORIES:Race,Time Trial TT
ATTACH;FMTTYPE=image/jpeg:https://pnwridenetwork.com/wp-content/uploads/2026/02/481170668_974022298172054_202090039853704607_n.jpg
GEO:43.9957667;-123.1533282
X-APPLE-STRUCTURED-LOCATION;VALUE=URI;X-ADDRESS=Spencer Creek Grange 86013 Lorane Hwy Eugene OR 97405 United States;X-APPLE-RADIUS=500;X-TITLE=86013 Lorane Hwy:geo:-123.1533282,43.9957667
END:VEVENT
BEGIN:VEVENT
DTSTART;TZID=America/Los_Angeles:20260603T000000
DTEND;TZID=America/Los_Angeles:20260603T000000
DTSTAMP:20260422T153947
CREATED:20260203T021413Z
LAST-MODIFIED:20260203T021413Z
UID:10001133-1780444800-1780444800@pnwridenetwork.com
SUMMARY:Mt. Tabor Series Week 1
DESCRIPTION:
URL:https://pnwridenetwork.com/ridecalendar/mt-tabor-series-week-1/
LOCATION:Mt. Tabor Park\, SE 60th Ave & SE Salmon St\, Portland\, OR\, 97215\, United States
CATEGORIES:Race,Road
GEO:45.5112549;-122.5958201
X-APPLE-STRUCTURED-LOCATION;VALUE=URI;X-ADDRESS=Mt. Tabor Park SE 60th Ave & SE Salmon St Portland OR 97215 United States;X-APPLE-RADIUS=500;X-TITLE=SE 60th Ave & SE Salmon St:geo:-122.5958201,45.5112549
END:VEVENT
BEGIN:VEVENT
DTSTART;TZID=America/Los_Angeles:20260604T180000
DTEND;TZID=America/Los_Angeles:20260604T193000
DTSTAMP:20260422T153947
CREATED:20260413T223641Z
LAST-MODIFIED:20260413T223642Z
UID:10001282-1780596000-1780601400@pnwridenetwork.com
SUMMARY:Weekly BWOL road ride
DESCRIPTION:Every Thursday night\, we will be hosting a road ride starting at Bicycle Way Of Life on Charnelton. Meeting at 5:45 and leaving at 6pm\, we will ride for approximately 90 minutes. Rides each week will change depending on the group.
URL:https://pnwridenetwork.com/ridecalendar/weekly-bwol-road-ride/2026-06-04/
LOCATION:Bicycle Way of Life\, 556 Charnelton St\, Eugene\, OR 97401\, Eugene\, Oregon\, 97401\, United States
CATEGORIES:Road
ATTACH;FMTTYPE=image/jpeg:https://pnwridenetwork.com/wp-content/uploads/2026/04/1000006877.jpg
GEO:44.0536875;-123.0961984
X-APPLE-STRUCTURED-LOCATION;VALUE=URI;X-ADDRESS=Bicycle Way of Life 556 Charnelton St Eugene OR 97401 Eugene Oregon 97401 United States;X-APPLE-RADIUS=500;X-TITLE=556 Charnelton St\, Eugene\, OR 97401:geo:-123.0961984,44.0536875
END:VEVENT
BEGIN:VEVENT
DTSTART;TZID=America/Los_Angeles:20260605T000000
DTEND;TZID=America/Los_Angeles:20260605T000000
DTSTAMP:20260422T153947
CREATED:20260203T021852Z
LAST-MODIFIED:20260203T021852Z
UID:10001153-1780617600-1780617600@pnwridenetwork.com
SUMMARY:Washougal MTB
DESCRIPTION:
URL:https://pnwridenetwork.com/ridecalendar/washougal-mtb/
LOCATION:Washougal MX Park\, 40205 NE Borin Rd\, Washougal\, WA\, 98671\, United States
CATEGORIES:MTB,Race
GEO:45.5811472;-122.3538195
X-APPLE-STRUCTURED-LOCATION;VALUE=URI;X-ADDRESS=Washougal MX Park 40205 NE Borin Rd Washougal WA 98671 United States;X-APPLE-RADIUS=500;X-TITLE=40205 NE Borin Rd:geo:-122.3538195,45.5811472
END:VEVENT
BEGIN:VEVENT
DTSTART;TZID=America/Los_Angeles:20260606T000000
DTEND;TZID=America/Los_Angeles:20260606T000000
DTSTAMP:20260422T153947
CREATED:20260203T020827Z
LAST-MODIFIED:20260203T020827Z
UID:10001073-1780704000-1780704000@pnwridenetwork.com
SUMMARY:Pioneer Century
DESCRIPTION:
URL:https://pnwridenetwork.com/ridecalendar/pioneer-century/
LOCATION:Columbia Distributing\, 2525 SE 1st Avenue\, Canby\, OR\, 97013\, United States
CATEGORIES:Road
GEO:45.2693261;-122.6623584
X-APPLE-STRUCTURED-LOCATION;VALUE=URI;X-ADDRESS=Columbia Distributing 2525 SE 1st Avenue Canby OR 97013 United States;X-APPLE-RADIUS=500;X-TITLE=2525 SE 1st Avenue:geo:-122.6623584,45.2693261
END:VEVENT
BEGIN:VEVENT
DTSTART;TZID=America/Los_Angeles:20260606T000000
DTEND;TZID=America/Los_Angeles:20260606T000000
DTSTAMP:20260422T153948
CREATED:20260203T021101Z
LAST-MODIFIED:20260203T021101Z
UID:10001105-1780704000-1780704000@pnwridenetwork.com
SUMMARY:hi90 Grindy
DESCRIPTION:
URL:https://pnwridenetwork.com/ridecalendar/hi90-grindy/
LOCATION:OR
CATEGORIES:Gravel
END:VEVENT
BEGIN:VEVENT
DTSTART;TZID=America/Los_Angeles:20260606T000000
DTEND;TZID=America/Los_Angeles:20260606T000000
DTSTAMP:20260422T153948
CREATED:20260203T021221Z
LAST-MODIFIED:20260203T021221Z
UID:10001116-1780704000-1780704000@pnwridenetwork.com
SUMMARY:June TheBluMoose Gravel
DESCRIPTION:
URL:https://pnwridenetwork.com/ridecalendar/june-theblumoose-gravel/
LOCATION:Kicking Horse Mountian Resort\, 1500 Kicking Horse Trl\, Golden\, BC\, V0A 1H0\, Canada
CATEGORIES:Gravel,Race
GEO:51.2975688;-117.0482516
X-APPLE-STRUCTURED-LOCATION;VALUE=URI;X-ADDRESS=Kicking Horse Mountian Resort 1500 Kicking Horse Trl Golden BC V0A 1H0 Canada;X-APPLE-RADIUS=500;X-TITLE=1500 Kicking Horse Trl:geo:-117.0482516,51.2975688
END:VEVENT
BEGIN:VEVENT
DTSTART;TZID=America/Los_Angeles:20260607T000000
DTEND;TZID=America/Los_Angeles:20260607T000000
DTSTAMP:20260422T153948
CREATED:20260203T021224Z
LAST-MODIFIED:20260203T021224Z
UID:10001117-1780790400-1780790400@pnwridenetwork.com
SUMMARY:Applewood Valley Gran Fondo
DESCRIPTION:
URL:https://pnwridenetwork.com/ridecalendar/applewood-valley-gran-fondo/
LOCATION:Applewood Performance Centre\, 20383 Langley Bypass\, Langley\, BC\, V3A 5E8\, Canada
CATEGORIES:Race,Road
GEO:49.1138267;-122.6590118
X-APPLE-STRUCTURED-LOCATION;VALUE=URI;X-ADDRESS=Applewood Performance Centre 20383 Langley Bypass Langley BC V3A 5E8 Canada;X-APPLE-RADIUS=500;X-TITLE=20383 Langley Bypass:geo:-122.6590118,49.1138267
END:VEVENT
END:VCALENDAR