BEGIN:VCALENDAR
VERSION:2.0
PRODID:-//PNW Ride Network - ECPv6.15.12.2//NONSGML v1.0//EN
CALSCALE:GREGORIAN
METHOD:PUBLISH
X-ORIGINAL-URL:https://pnwridenetwork.com
X-WR-CALDESC:Events for PNW Ride Network
REFRESH-INTERVAL;VALUE=DURATION:PT1H
X-Robots-Tag:noindex
X-PUBLISHED-TTL:PT1H
BEGIN:VTIMEZONE
TZID:America/Los_Angeles
BEGIN:DAYLIGHT
TZOFFSETFROM:-0800
TZOFFSETTO:-0700
TZNAME:PDT
DTSTART:20250309T100000
END:DAYLIGHT
BEGIN:STANDARD
TZOFFSETFROM:-0700
TZOFFSETTO:-0800
TZNAME:PST
DTSTART:20251102T090000
END:STANDARD
BEGIN:DAYLIGHT
TZOFFSETFROM:-0800
TZOFFSETTO:-0700
TZNAME:PDT
DTSTART:20260308T100000
END:DAYLIGHT
BEGIN:STANDARD
TZOFFSETFROM:-0700
TZOFFSETTO:-0800
TZNAME:PST
DTSTART:20261101T090000
END:STANDARD
BEGIN:DAYLIGHT
TZOFFSETFROM:-0800
TZOFFSETTO:-0700
TZNAME:PDT
DTSTART:20270314T100000
END:DAYLIGHT
BEGIN:STANDARD
TZOFFSETFROM:-0700
TZOFFSETTO:-0800
TZNAME:PST
DTSTART:20271107T090000
END:STANDARD
END:VTIMEZONE
BEGIN:VEVENT
DTSTART;TZID=America/Los_Angeles:20260518T163000
DTEND;TZID=America/Los_Angeles:20260518T200000
DTSTAMP:20260419T205649
CREATED:20260203T021857Z
LAST-MODIFIED:20260203T042800Z
UID:10001226-1779121800-1779134400@pnwridenetwork.com
SUMMARY:Monday Night PIR
DESCRIPTION:
URL:https://pnwridenetwork.com/ridecalendar/monday-night-pir-week-1/2026-05-18/
LOCATION:Portland International Raceway(PIR)\, 1940 North Victory Boulevard\, Portland\, OR\, 97217\, United States
CATEGORIES:Race,Road
ATTACH;FMTTYPE=image/png:https://pnwridenetwork.com/wp-content/uploads/2026/02/image-10.png
GEO:45.5966998;-122.6867531
X-APPLE-STRUCTURED-LOCATION;VALUE=URI;X-ADDRESS=Portland International Raceway(PIR) 1940 North Victory Boulevard Portland OR 97217 United States;X-APPLE-RADIUS=500;X-TITLE=1940 North Victory Boulevard:geo:-122.6867531,45.5966998
END:VEVENT
BEGIN:VEVENT
DTSTART;TZID=America/Los_Angeles:20260519T000000
DTEND;TZID=America/Los_Angeles:20260519T000000
DTSTAMP:20260419T205649
CREATED:20260203T021912Z
LAST-MODIFIED:20260224T154127Z
UID:10001232-1779148800-1779148800@pnwridenetwork.com
SUMMARY:Tuesday Night PIR
DESCRIPTION:
URL:https://pnwridenetwork.com/ridecalendar/tuesday-night-pir-week-1/2026-05-19/
LOCATION:Portland International Raceway(PIR)\, 1940 North Victory Boulevard\, Portland\, OR\, 97217\, United States
CATEGORIES:Race,Road
ATTACH;FMTTYPE=image/png:https://pnwridenetwork.com/wp-content/uploads/2026/02/image-11-1.png
GEO:45.5966998;-122.6867531
X-APPLE-STRUCTURED-LOCATION;VALUE=URI;X-ADDRESS=Portland International Raceway(PIR) 1940 North Victory Boulevard Portland OR 97217 United States;X-APPLE-RADIUS=500;X-TITLE=1940 North Victory Boulevard:geo:-122.6867531,45.5966998
END:VEVENT
BEGIN:VEVENT
DTSTART;TZID=America/Los_Angeles:20260519T000000
DTEND;TZID=America/Los_Angeles:20260519T235959
DTSTAMP:20260419T205649
CREATED:20260203T021913Z
LAST-MODIFIED:20260224T154628Z
UID:10001238-1779148800-1779235199@pnwridenetwork.com
SUMMARY:Twilight Time Trial Series
DESCRIPTION:
URL:https://pnwridenetwork.com/ridecalendar/twilight-time-trial-series-week-1/2026-05-19/
LOCATION:Coburg Community Charter School\, 91274 N Coburg Rd\, Coburg (Eugene area)\, OR\, 97408\, United States
CATEGORIES:Race,Time Trial TT
ATTACH;FMTTYPE=image/png:https://pnwridenetwork.com/wp-content/uploads/2026/02/Screenshot-2026-02-24-074541.png
GEO:44.142696;-123.0723884
X-APPLE-STRUCTURED-LOCATION;VALUE=URI;X-ADDRESS=Coburg Community Charter School 91274 N Coburg Rd Coburg (Eugene area) OR 97408 United States;X-APPLE-RADIUS=500;X-TITLE=91274 N Coburg Rd:geo:-123.0723884,44.142696
END:VEVENT
BEGIN:VEVENT
DTSTART;TZID=America/Los_Angeles:20260521T180000
DTEND;TZID=America/Los_Angeles:20260521T193000
DTSTAMP:20260419T205650
CREATED:20260413T223641Z
LAST-MODIFIED:20260413T223642Z
UID:10001280-1779386400-1779391800@pnwridenetwork.com
SUMMARY:Weekly BWOL road ride
DESCRIPTION:Every Thursday night\, we will be hosting a road ride starting at Bicycle Way Of Life on Charnelton. Meeting at 5:45 and leaving at 6pm\, we will ride for approximately 90 minutes. Rides each week will change depending on the group.
URL:https://pnwridenetwork.com/ridecalendar/weekly-bwol-road-ride/2026-05-21/
LOCATION:Bicycle Way of Life\, 556 Charnelton St\, Eugene\, OR 97401\, Eugene\, Oregon\, 97401\, United States
CATEGORIES:Road
ATTACH;FMTTYPE=image/jpeg:https://pnwridenetwork.com/wp-content/uploads/2026/04/1000006877.jpg
END:VEVENT
BEGIN:VEVENT
DTSTART;TZID=America/Los_Angeles:20260523T000000
DTEND;TZID=America/Los_Angeles:20260524T000000
DTSTAMP:20260419T205650
CREATED:20260203T020508Z
LAST-MODIFIED:20260203T020508Z
UID:10001069-1779494400-1779580800@pnwridenetwork.com
SUMMARY:Art of Survival Day 1
DESCRIPTION:
URL:https://pnwridenetwork.com/ridecalendar/art-of-survival-day-1/
LOCATION:Malin Branch Library\, 2307 Front St\, Malin\, OR\, 97632\, United States
CATEGORIES:Road
GEO:42.0141699;-121.4093201
X-APPLE-STRUCTURED-LOCATION;VALUE=URI;X-ADDRESS=Malin Branch Library 2307 Front St Malin OR 97632 United States;X-APPLE-RADIUS=500;X-TITLE=2307 Front St:geo:-121.4093201,42.0141699
END:VEVENT
BEGIN:VEVENT
DTSTART;TZID=America/Los_Angeles:20260524T000000
DTEND;TZID=America/Los_Angeles:20260524T000000
DTSTAMP:20260419T205650
CREATED:20260203T020509Z
LAST-MODIFIED:20260203T020509Z
UID:10001070-1779580800-1779580800@pnwridenetwork.com
SUMMARY:Art of Survival Day 2
DESCRIPTION:
URL:https://pnwridenetwork.com/ridecalendar/art-of-survival-day-2/
LOCATION:Malin Branch Library\, 2307 Front St\, Malin\, OR\, 97632\, United States
CATEGORIES:Gravel,Road
GEO:42.0141699;-121.4093201
X-APPLE-STRUCTURED-LOCATION;VALUE=URI;X-ADDRESS=Malin Branch Library 2307 Front St Malin OR 97632 United States;X-APPLE-RADIUS=500;X-TITLE=2307 Front St:geo:-121.4093201,42.0141699
END:VEVENT
BEGIN:VEVENT
DTSTART;TZID=America/Los_Angeles:20260524T000000
DTEND;TZID=America/Los_Angeles:20260524T000000
DTSTAMP:20260419T205650
CREATED:20260203T020509Z
LAST-MODIFIED:20260203T020509Z
UID:10001071-1779580800-1779580800@pnwridenetwork.com
SUMMARY:Sisters Stampede
DESCRIPTION:
URL:https://pnwridenetwork.com/ridecalendar/sisters-stampede/
LOCATION:Blazin Saddles\, 413 W Hood Ave\, Sisters\, OR\, 97759\, United States
CATEGORIES:Gravel,Race,Road
ORGANIZER;CN="Mudslinger Events":MAILTO:mike@mudslingerevents.com
GEO:44.2903706;-121.554022
X-APPLE-STRUCTURED-LOCATION;VALUE=URI;X-ADDRESS=Blazin Saddles 413 W Hood Ave Sisters OR 97759 United States;X-APPLE-RADIUS=500;X-TITLE=413 W Hood Ave:geo:-121.554022,44.2903706
END:VEVENT
END:VCALENDAR