BEGIN:VCALENDAR
VERSION:2.0
PRODID:-//PNW Ride Network - ECPv6.15.12.2//NONSGML v1.0//EN
CALSCALE:GREGORIAN
METHOD:PUBLISH
X-WR-CALNAME:PNW Ride Network
X-ORIGINAL-URL:https://pnwridenetwork.com
X-WR-CALDESC:Events for PNW Ride Network
REFRESH-INTERVAL;VALUE=DURATION:PT1H
X-Robots-Tag:noindex
X-PUBLISHED-TTL:PT1H
BEGIN:VTIMEZONE
TZID:America/Los_Angeles
BEGIN:DAYLIGHT
TZOFFSETFROM:-0800
TZOFFSETTO:-0700
TZNAME:PDT
DTSTART:20250309T100000
END:DAYLIGHT
BEGIN:STANDARD
TZOFFSETFROM:-0700
TZOFFSETTO:-0800
TZNAME:PST
DTSTART:20251102T090000
END:STANDARD
BEGIN:DAYLIGHT
TZOFFSETFROM:-0800
TZOFFSETTO:-0700
TZNAME:PDT
DTSTART:20260308T100000
END:DAYLIGHT
BEGIN:STANDARD
TZOFFSETFROM:-0700
TZOFFSETTO:-0800
TZNAME:PST
DTSTART:20261101T090000
END:STANDARD
BEGIN:DAYLIGHT
TZOFFSETFROM:-0800
TZOFFSETTO:-0700
TZNAME:PDT
DTSTART:20270314T100000
END:DAYLIGHT
BEGIN:STANDARD
TZOFFSETFROM:-0700
TZOFFSETTO:-0800
TZNAME:PST
DTSTART:20271107T090000
END:STANDARD
END:VTIMEZONE
BEGIN:VEVENT
DTSTART;TZID=America/Los_Angeles:20260314T000000
DTEND;TZID=America/Los_Angeles:20260314T000000
DTSTAMP:20260419T152520
CREATED:20260203T021852Z
LAST-MODIFIED:20260203T062332Z
UID:10001152-1773446400-1773446400@pnwridenetwork.com
SUMMARY:Echo Red to Red XC
DESCRIPTION:
URL:https://pnwridenetwork.com/ridecalendar/echo-red-to-red-xc/
LOCATION:Oregon
CATEGORIES:MTB,Race
ATTACH;FMTTYPE=image/webp:https://pnwridenetwork.com/wp-content/uploads/2026/02/Echo-Red-2-Red-Race-Mar.-15-2025-125.webp
END:VEVENT
BEGIN:VEVENT
DTSTART;TZID=America/Los_Angeles:20260315T000000
DTEND;TZID=America/Los_Angeles:20260315T000000
DTSTAMP:20260419T152520
CREATED:20260203T020434Z
LAST-MODIFIED:20260203T062657Z
UID:10001057-1773532800-1773532800@pnwridenetwork.com
SUMMARY:Real West Gravel
DESCRIPTION:
URL:https://pnwridenetwork.com/ridecalendar/real-west-gravel/
LOCATION:Pendleton Community Park\, 1210 SW 44th St\, Pendleton\, OR\, 97801\, United States
CATEGORIES:Gravel,Race
ATTACH;FMTTYPE=image/webp:https://pnwridenetwork.com/wp-content/uploads/2026/02/realwestgravel.webp
ORGANIZER;CN="Mudslinger Events":MAILTO:mike@mudslingerevents.com
GEO:45.651929;-118.8258386
X-APPLE-STRUCTURED-LOCATION;VALUE=URI;X-ADDRESS=Pendleton Community Park 1210 SW 44th St Pendleton OR 97801 United States;X-APPLE-RADIUS=500;X-TITLE=1210 SW 44th St:geo:-118.8258386,45.651929
END:VEVENT
END:VCALENDAR