BEGIN:VCALENDAR
VERSION:2.0
PRODID:-//PNW Ride Network - ECPv6.15.12.2//NONSGML v1.0//EN
CALSCALE:GREGORIAN
METHOD:PUBLISH
X-WR-CALNAME:PNW Ride Network
X-ORIGINAL-URL:https://pnwridenetwork.com
X-WR-CALDESC:Events for PNW Ride Network
REFRESH-INTERVAL;VALUE=DURATION:PT1H
X-Robots-Tag:noindex
X-PUBLISHED-TTL:PT1H
BEGIN:VTIMEZONE
TZID:America/Los_Angeles
BEGIN:DAYLIGHT
TZOFFSETFROM:-0800
TZOFFSETTO:-0700
TZNAME:PDT
DTSTART:20250309T100000
END:DAYLIGHT
BEGIN:STANDARD
TZOFFSETFROM:-0700
TZOFFSETTO:-0800
TZNAME:PST
DTSTART:20251102T090000
END:STANDARD
BEGIN:DAYLIGHT
TZOFFSETFROM:-0800
TZOFFSETTO:-0700
TZNAME:PDT
DTSTART:20260308T100000
END:DAYLIGHT
BEGIN:STANDARD
TZOFFSETFROM:-0700
TZOFFSETTO:-0800
TZNAME:PST
DTSTART:20261101T090000
END:STANDARD
BEGIN:DAYLIGHT
TZOFFSETFROM:-0800
TZOFFSETTO:-0700
TZNAME:PDT
DTSTART:20270314T100000
END:DAYLIGHT
BEGIN:STANDARD
TZOFFSETFROM:-0700
TZOFFSETTO:-0800
TZNAME:PST
DTSTART:20271107T090000
END:STANDARD
END:VTIMEZONE
BEGIN:VEVENT
DTSTART;TZID=America/Los_Angeles:20260613T090000
DTEND;TZID=America/Los_Angeles:20260613T180000
DTSTAMP:20260423T131551
CREATED:20260423T182539Z
LAST-MODIFIED:20260423T182840Z
UID:10001354-1781341200-1781373600@pnwridenetwork.com
SUMMARY:Viking Tour Brew Fest & Bike Ride
DESCRIPTION:A Kitsap County tradition since 2015\, the Viking Tour is the ultimate blend of scenic challenge and celebration. Rally your crew to take on one of our three distinct routes\, then toast your victory at the Brew Fest with a complimentary meal and a cold drink. \nWe’ve gathered the best local beer\, cider\, and wine from across the region to help you toast to a day well-spent. With plenty of food on-site\, it’s the perfect place to relax with your crew. \nNo bike? No problem. You don’t need to be a rider to join the feast. Everyone is welcome at our table.
URL:https://pnwridenetwork.com/ridecalendar/viking-tour-brew-fest-bike-ride/
LOCATION:Poulsbo Waterfront Park\, 18809 Aderson Pkwy\, Poulsbo\, Washington\, 98370\, United States
CATEGORIES:Community Event,Road
ATTACH;FMTTYPE=image/jpeg:https://pnwridenetwork.com/wp-content/uploads/2026/04/IMG_7462.jpeg
END:VEVENT
END:VCALENDAR