BEGIN:VCALENDAR
VERSION:2.0
PRODID:-//PNW Ride Network - ECPv6.15.12.2//NONSGML v1.0//EN
CALSCALE:GREGORIAN
METHOD:PUBLISH
X-ORIGINAL-URL:https://pnwridenetwork.com
X-WR-CALDESC:Events for PNW Ride Network
REFRESH-INTERVAL;VALUE=DURATION:PT1H
X-Robots-Tag:noindex
X-PUBLISHED-TTL:PT1H
BEGIN:VTIMEZONE
TZID:America/Los_Angeles
BEGIN:DAYLIGHT
TZOFFSETFROM:-0800
TZOFFSETTO:-0700
TZNAME:PDT
DTSTART:20250309T100000
END:DAYLIGHT
BEGIN:STANDARD
TZOFFSETFROM:-0700
TZOFFSETTO:-0800
TZNAME:PST
DTSTART:20251102T090000
END:STANDARD
BEGIN:DAYLIGHT
TZOFFSETFROM:-0800
TZOFFSETTO:-0700
TZNAME:PDT
DTSTART:20260308T100000
END:DAYLIGHT
BEGIN:STANDARD
TZOFFSETFROM:-0700
TZOFFSETTO:-0800
TZNAME:PST
DTSTART:20261101T090000
END:STANDARD
BEGIN:DAYLIGHT
TZOFFSETFROM:-0800
TZOFFSETTO:-0700
TZNAME:PDT
DTSTART:20270314T100000
END:DAYLIGHT
BEGIN:STANDARD
TZOFFSETFROM:-0700
TZOFFSETTO:-0800
TZNAME:PST
DTSTART:20271107T090000
END:STANDARD
END:VTIMEZONE
BEGIN:VEVENT
DTSTART;TZID=America/Los_Angeles:20260606T000000
DTEND;TZID=America/Los_Angeles:20260606T000000
DTSTAMP:20260420T185559
CREATED:20260203T021221Z
LAST-MODIFIED:20260203T021221Z
UID:10001116-1780704000-1780704000@pnwridenetwork.com
SUMMARY:June TheBluMoose Gravel
DESCRIPTION:
URL:https://pnwridenetwork.com/ridecalendar/june-theblumoose-gravel/
LOCATION:Kicking Horse Mountian Resort\, 1500 Kicking Horse Trl\, Golden\, BC\, V0A 1H0\, Canada
CATEGORIES:Gravel,Race
GEO:51.2975688;-117.0482516
X-APPLE-STRUCTURED-LOCATION;VALUE=URI;X-ADDRESS=Kicking Horse Mountian Resort 1500 Kicking Horse Trl Golden BC V0A 1H0 Canada;X-APPLE-RADIUS=500;X-TITLE=1500 Kicking Horse Trl:geo:-117.0482516,51.2975688
END:VEVENT
BEGIN:VEVENT
DTSTART;TZID=America/Los_Angeles:20260607T000000
DTEND;TZID=America/Los_Angeles:20260607T000000
DTSTAMP:20260420T185559
CREATED:20260203T021224Z
LAST-MODIFIED:20260203T021224Z
UID:10001117-1780790400-1780790400@pnwridenetwork.com
SUMMARY:Applewood Valley Gran Fondo
DESCRIPTION:
URL:https://pnwridenetwork.com/ridecalendar/applewood-valley-gran-fondo/
LOCATION:Applewood Performance Centre\, 20383 Langley Bypass\, Langley\, BC\, V3A 5E8\, Canada
CATEGORIES:Race,Road
GEO:49.1138267;-122.6590118
X-APPLE-STRUCTURED-LOCATION;VALUE=URI;X-ADDRESS=Applewood Performance Centre 20383 Langley Bypass Langley BC V3A 5E8 Canada;X-APPLE-RADIUS=500;X-TITLE=20383 Langley Bypass:geo:-122.6590118,49.1138267
END:VEVENT
BEGIN:VEVENT
DTSTART;TZID=America/Los_Angeles:20260608T000000
DTEND;TZID=America/Los_Angeles:20260608T000000
DTSTAMP:20260420T185559
CREATED:20260203T021930Z
LAST-MODIFIED:20260203T065834Z
UID:10001243-1780876800-1780876800@pnwridenetwork.com
SUMMARY:Monday Night Short Track Coyote Run
DESCRIPTION:
URL:https://pnwridenetwork.com/ridecalendar/monday-night-short-track-coyote-run-1/2026-06-08/
LOCATION:Portland International Raceway(PIR)\, 1940 North Victory Boulevard\, Portland\, OR\, 97217\, United States
CATEGORIES:Race,Short Track
ATTACH;FMTTYPE=image/jpeg:https://pnwridenetwork.com/wp-content/uploads/2026/02/a9e29133cf47f379704f0134997f1be8.jpeg
GEO:45.5966998;-122.6867531
X-APPLE-STRUCTURED-LOCATION;VALUE=URI;X-ADDRESS=Portland International Raceway(PIR) 1940 North Victory Boulevard Portland OR 97217 United States;X-APPLE-RADIUS=500;X-TITLE=1940 North Victory Boulevard:geo:-122.6867531,45.5966998
END:VEVENT
BEGIN:VEVENT
DTSTART;TZID=America/Los_Angeles:20260608T163000
DTEND;TZID=America/Los_Angeles:20260608T200000
DTSTAMP:20260420T185559
CREATED:20260203T021857Z
LAST-MODIFIED:20260203T042800Z
UID:10001229-1780936200-1780948800@pnwridenetwork.com
SUMMARY:Monday Night PIR
DESCRIPTION:
URL:https://pnwridenetwork.com/ridecalendar/monday-night-pir-week-1/2026-06-08/
LOCATION:Portland International Raceway(PIR)\, 1940 North Victory Boulevard\, Portland\, OR\, 97217\, United States
CATEGORIES:Race,Road
ATTACH;FMTTYPE=image/png:https://pnwridenetwork.com/wp-content/uploads/2026/02/image-10.png
GEO:45.5966998;-122.6867531
X-APPLE-STRUCTURED-LOCATION;VALUE=URI;X-ADDRESS=Portland International Raceway(PIR) 1940 North Victory Boulevard Portland OR 97217 United States;X-APPLE-RADIUS=500;X-TITLE=1940 North Victory Boulevard:geo:-122.6867531,45.5966998
END:VEVENT
BEGIN:VEVENT
DTSTART;TZID=America/Los_Angeles:20260609T000000
DTEND;TZID=America/Los_Angeles:20260609T000000
DTSTAMP:20260420T185559
CREATED:20260203T021912Z
LAST-MODIFIED:20260224T154127Z
UID:10001235-1780963200-1780963200@pnwridenetwork.com
SUMMARY:Tuesday Night PIR
DESCRIPTION:
URL:https://pnwridenetwork.com/ridecalendar/tuesday-night-pir-week-1/2026-06-09/
LOCATION:Portland International Raceway(PIR)\, 1940 North Victory Boulevard\, Portland\, OR\, 97217\, United States
CATEGORIES:Race,Road
ATTACH;FMTTYPE=image/png:https://pnwridenetwork.com/wp-content/uploads/2026/02/image-11-1.png
GEO:45.5966998;-122.6867531
X-APPLE-STRUCTURED-LOCATION;VALUE=URI;X-ADDRESS=Portland International Raceway(PIR) 1940 North Victory Boulevard Portland OR 97217 United States;X-APPLE-RADIUS=500;X-TITLE=1940 North Victory Boulevard:geo:-122.6867531,45.5966998
END:VEVENT
BEGIN:VEVENT
DTSTART;TZID=America/Los_Angeles:20260609T000000
DTEND;TZID=America/Los_Angeles:20260609T235959
DTSTAMP:20260420T185559
CREATED:20260203T022028Z
LAST-MODIFIED:20260203T070855Z
UID:10001248-1780963200-1781049599@pnwridenetwork.com
SUMMARY:Twilight Ops McBeth Hill Climb Series
DESCRIPTION:
URL:https://pnwridenetwork.com/ridecalendar/mcbeth-hill-climb-series-week-1/2026-06-09/
LOCATION:Spencer Creek Grange\, 86013 Lorane Hwy\, Eugene\, OR\, 97405\, United States
CATEGORIES:Race,Time Trial TT
ATTACH;FMTTYPE=image/jpeg:https://pnwridenetwork.com/wp-content/uploads/2026/02/481170668_974022298172054_202090039853704607_n.jpg
GEO:43.9957667;-123.1533282
X-APPLE-STRUCTURED-LOCATION;VALUE=URI;X-ADDRESS=Spencer Creek Grange 86013 Lorane Hwy Eugene OR 97405 United States;X-APPLE-RADIUS=500;X-TITLE=86013 Lorane Hwy:geo:-123.1533282,43.9957667
END:VEVENT
BEGIN:VEVENT
DTSTART;TZID=America/Los_Angeles:20260610T000000
DTEND;TZID=America/Los_Angeles:20260610T000000
DTSTAMP:20260420T185559
CREATED:20260203T021413Z
LAST-MODIFIED:20260203T021413Z
UID:10001134-1781049600-1781049600@pnwridenetwork.com
SUMMARY:Mt. Tabor Series Week 2
DESCRIPTION:
URL:https://pnwridenetwork.com/ridecalendar/mt-tabor-series-week-2/
LOCATION:Mt. Tabor Park\, SE 60th Ave & SE Salmon St\, Portland\, OR\, 97215\, United States
CATEGORIES:Race,Road
GEO:45.5112549;-122.5958201
X-APPLE-STRUCTURED-LOCATION;VALUE=URI;X-ADDRESS=Mt. Tabor Park SE 60th Ave & SE Salmon St Portland OR 97215 United States;X-APPLE-RADIUS=500;X-TITLE=SE 60th Ave & SE Salmon St:geo:-122.5958201,45.5112549
END:VEVENT
BEGIN:VEVENT
DTSTART;TZID=America/Los_Angeles:20260611T180000
DTEND;TZID=America/Los_Angeles:20260611T193000
DTSTAMP:20260420T185559
CREATED:20260413T223641Z
LAST-MODIFIED:20260413T223642Z
UID:10001283-1781200800-1781206200@pnwridenetwork.com
SUMMARY:Weekly BWOL road ride
DESCRIPTION:Every Thursday night\, we will be hosting a road ride starting at Bicycle Way Of Life on Charnelton. Meeting at 5:45 and leaving at 6pm\, we will ride for approximately 90 minutes. Rides each week will change depending on the group.
URL:https://pnwridenetwork.com/ridecalendar/weekly-bwol-road-ride/2026-06-11/
LOCATION:Bicycle Way of Life\, 556 Charnelton St\, Eugene\, OR 97401\, Eugene\, Oregon\, 97401\, United States
CATEGORIES:Road
ATTACH;FMTTYPE=image/jpeg:https://pnwridenetwork.com/wp-content/uploads/2026/04/1000006877.jpg
GEO:44.0536875;-123.0961984
X-APPLE-STRUCTURED-LOCATION;VALUE=URI;X-ADDRESS=Bicycle Way of Life 556 Charnelton St Eugene OR 97401 Eugene Oregon 97401 United States;X-APPLE-RADIUS=500;X-TITLE=556 Charnelton St\, Eugene\, OR 97401:geo:-123.0961984,44.0536875
END:VEVENT
BEGIN:VEVENT
DTSTART;TZID=America/Los_Angeles:20260612T000000
DTEND;TZID=America/Los_Angeles:20260614T000000
DTSTAMP:20260420T185559
CREATED:20260203T021219Z
LAST-MODIFIED:20260203T021219Z
UID:10001112-1781222400-1781395200@pnwridenetwork.com
SUMMARY:Cycle Oregon Joy Ride
DESCRIPTION:
URL:https://pnwridenetwork.com/ridecalendar/cycle-oregon-joy-ride/
LOCATION:Oregon
CATEGORIES:Community Event,Road
ORGANIZER;CN="Cycle Oregon":MAILTO:info@cycleoregon.com
END:VEVENT
BEGIN:VEVENT
DTSTART;TZID=America/Los_Angeles:20260613T000000
DTEND;TZID=America/Los_Angeles:20260613T000000
DTSTAMP:20260420T185559
CREATED:20260203T020828Z
LAST-MODIFIED:20260203T020828Z
UID:10001074-1781308800-1781308800@pnwridenetwork.com
SUMMARY:Columbia Century Challenge
DESCRIPTION:
URL:https://pnwridenetwork.com/ridecalendar/columbia-century-challenge/
LOCATION:Rainier City Park\, 681 W A St\, Rainier\, OR\, 97048\, United States
CATEGORIES:Road
GEO:46.0918355;-122.9407935
X-APPLE-STRUCTURED-LOCATION;VALUE=URI;X-ADDRESS=Rainier City Park 681 W A St Rainier OR 97048 United States;X-APPLE-RADIUS=500;X-TITLE=681 W A St:geo:-122.9407935,46.0918355
END:VEVENT
BEGIN:VEVENT
DTSTART;TZID=America/Los_Angeles:20260613T000000
DTEND;TZID=America/Los_Angeles:20260613T000000
DTSTAMP:20260420T185559
CREATED:20260203T020904Z
LAST-MODIFIED:20260203T020904Z
UID:10001089-1781308800-1781308800@pnwridenetwork.com
SUMMARY:Gravel Unravel Bon Jon Pass Out
DESCRIPTION:
URL:https://pnwridenetwork.com/ridecalendar/gravel-unravel-bon-jon-pass-out/
LOCATION:Washington Park\, 151 W Columbia S\, Quilcene\, WA\, 98376\, United States
CATEGORIES:Gravel,Race
GEO:39.108929;-84.5172249
X-APPLE-STRUCTURED-LOCATION;VALUE=URI;X-ADDRESS=Washington Park 151 W Columbia S Quilcene WA 98376 United States;X-APPLE-RADIUS=500;X-TITLE=151 W Columbia S:geo:-84.5172249,39.108929
END:VEVENT
BEGIN:VEVENT
DTSTART;TZID=America/Los_Angeles:20260613T000000
DTEND;TZID=America/Los_Angeles:20260613T000000
DTSTAMP:20260420T185559
CREATED:20260203T021225Z
LAST-MODIFIED:20260203T021225Z
UID:10001118-1781308800-1781308800@pnwridenetwork.com
SUMMARY:XFONDO Whistler
DESCRIPTION:
URL:https://pnwridenetwork.com/ridecalendar/xfondo-whistler/
LOCATION:Spruce Grove\, 7202 Spruce Grove Circle\, Whistler\, BC\, V8E 0E8\, Canada
CATEGORIES:Gravel,Race
GEO:53.5412414;-113.9100733
X-APPLE-STRUCTURED-LOCATION;VALUE=URI;X-ADDRESS=Spruce Grove 7202 Spruce Grove Circle Whistler BC V8E 0E8 Canada;X-APPLE-RADIUS=500;X-TITLE=7202 Spruce Grove Circle:geo:-113.9100733,53.5412414
END:VEVENT
BEGIN:VEVENT
DTSTART;TZID=America/Los_Angeles:20260613T000000
DTEND;TZID=America/Los_Angeles:20260613T000000
DTSTAMP:20260420T185559
CREATED:20260203T021726Z
LAST-MODIFIED:20260203T021726Z
UID:10001149-1781308800-1781308800@pnwridenetwork.com
SUMMARY:Lost and Found Gravel Fest
DESCRIPTION:
URL:https://pnwridenetwork.com/ridecalendar/lost-and-found-gravel-fest/
LOCATION:Oregon
CATEGORIES:Gravel,Race
END:VEVENT
BEGIN:VEVENT
DTSTART;TZID=America/Los_Angeles:20260615T000000
DTEND;TZID=America/Los_Angeles:20260615T000000
DTSTAMP:20260420T185559
CREATED:20260203T021930Z
LAST-MODIFIED:20260203T065834Z
UID:10001244-1781481600-1781481600@pnwridenetwork.com
SUMMARY:Monday Night Short Track Coyote Run
DESCRIPTION:
URL:https://pnwridenetwork.com/ridecalendar/monday-night-short-track-coyote-run-1/2026-06-15/
LOCATION:Portland International Raceway(PIR)\, 1940 North Victory Boulevard\, Portland\, OR\, 97217\, United States
CATEGORIES:Race,Short Track
ATTACH;FMTTYPE=image/jpeg:https://pnwridenetwork.com/wp-content/uploads/2026/02/a9e29133cf47f379704f0134997f1be8.jpeg
GEO:45.5966998;-122.6867531
X-APPLE-STRUCTURED-LOCATION;VALUE=URI;X-ADDRESS=Portland International Raceway(PIR) 1940 North Victory Boulevard Portland OR 97217 United States;X-APPLE-RADIUS=500;X-TITLE=1940 North Victory Boulevard:geo:-122.6867531,45.5966998
END:VEVENT
BEGIN:VEVENT
DTSTART;TZID=America/Los_Angeles:20260616T000000
DTEND;TZID=America/Los_Angeles:20260616T235959
DTSTAMP:20260420T185559
CREATED:20260203T022028Z
LAST-MODIFIED:20260203T070855Z
UID:10001249-1781568000-1781654399@pnwridenetwork.com
SUMMARY:Twilight Ops McBeth Hill Climb Series
DESCRIPTION:
URL:https://pnwridenetwork.com/ridecalendar/mcbeth-hill-climb-series-week-1/2026-06-16/
LOCATION:Spencer Creek Grange\, 86013 Lorane Hwy\, Eugene\, OR\, 97405\, United States
CATEGORIES:Race,Time Trial TT
ATTACH;FMTTYPE=image/jpeg:https://pnwridenetwork.com/wp-content/uploads/2026/02/481170668_974022298172054_202090039853704607_n.jpg
GEO:43.9957667;-123.1533282
X-APPLE-STRUCTURED-LOCATION;VALUE=URI;X-ADDRESS=Spencer Creek Grange 86013 Lorane Hwy Eugene OR 97405 United States;X-APPLE-RADIUS=500;X-TITLE=86013 Lorane Hwy:geo:-123.1533282,43.9957667
END:VEVENT
BEGIN:VEVENT
DTSTART;TZID=America/Los_Angeles:20260617T000000
DTEND;TZID=America/Los_Angeles:20260617T000000
DTSTAMP:20260420T185559
CREATED:20260203T021414Z
LAST-MODIFIED:20260203T021414Z
UID:10001135-1781654400-1781654400@pnwridenetwork.com
SUMMARY:Mt. Tabor Series Week 3
DESCRIPTION:
URL:https://pnwridenetwork.com/ridecalendar/mt-tabor-series-week-3/
LOCATION:Mt. Tabor Park\, SE 60th Ave & SE Salmon St\, Portland\, OR\, 97215\, United States
CATEGORIES:Race,Road
GEO:45.5112549;-122.5958201
X-APPLE-STRUCTURED-LOCATION;VALUE=URI;X-ADDRESS=Mt. Tabor Park SE 60th Ave & SE Salmon St Portland OR 97215 United States;X-APPLE-RADIUS=500;X-TITLE=SE 60th Ave & SE Salmon St:geo:-122.5958201,45.5112549
END:VEVENT
BEGIN:VEVENT
DTSTART;TZID=America/Los_Angeles:20260618T180000
DTEND;TZID=America/Los_Angeles:20260618T193000
DTSTAMP:20260420T185559
CREATED:20260413T223641Z
LAST-MODIFIED:20260413T223642Z
UID:10001284-1781805600-1781811000@pnwridenetwork.com
SUMMARY:Weekly BWOL road ride
DESCRIPTION:Every Thursday night\, we will be hosting a road ride starting at Bicycle Way Of Life on Charnelton. Meeting at 5:45 and leaving at 6pm\, we will ride for approximately 90 minutes. Rides each week will change depending on the group.
URL:https://pnwridenetwork.com/ridecalendar/weekly-bwol-road-ride/2026-06-18/
LOCATION:Bicycle Way of Life\, 556 Charnelton St\, Eugene\, OR 97401\, Eugene\, Oregon\, 97401\, United States
CATEGORIES:Road
ATTACH;FMTTYPE=image/jpeg:https://pnwridenetwork.com/wp-content/uploads/2026/04/1000006877.jpg
GEO:44.0536875;-123.0961984
X-APPLE-STRUCTURED-LOCATION;VALUE=URI;X-ADDRESS=Bicycle Way of Life 556 Charnelton St Eugene OR 97401 Eugene Oregon 97401 United States;X-APPLE-RADIUS=500;X-TITLE=556 Charnelton St\, Eugene\, OR 97401:geo:-123.0961984,44.0536875
END:VEVENT
BEGIN:VEVENT
DTSTART;TZID=America/Los_Angeles:20260620T000000
DTEND;TZID=America/Los_Angeles:20260620T000000
DTSTAMP:20260420T185559
CREATED:20260203T020828Z
LAST-MODIFIED:20260203T020828Z
UID:10001075-1781913600-1781913600@pnwridenetwork.com
SUMMARY:Tour de Fronds
DESCRIPTION:
URL:https://pnwridenetwork.com/ridecalendar/tour-de-fronds/
LOCATION:Powers County Park\, 42720 Hwy 242\, Powers\, OR\, 97466\, United States
CATEGORIES:Gravel,Road
GEO:42.8909875;-124.077389
X-APPLE-STRUCTURED-LOCATION;VALUE=URI;X-ADDRESS=Powers County Park 42720 Hwy 242 Powers OR 97466 United States;X-APPLE-RADIUS=500;X-TITLE=42720 Hwy 242:geo:-124.077389,42.8909875
END:VEVENT
BEGIN:VEVENT
DTSTART;TZID=America/Los_Angeles:20260620T000000
DTEND;TZID=America/Los_Angeles:20260620T000000
DTSTAMP:20260420T185559
CREATED:20260203T021006Z
LAST-MODIFIED:20260203T021006Z
UID:10001095-1781913600-1781913600@pnwridenetwork.com
SUMMARY:Chafe 150
DESCRIPTION:
URL:https://pnwridenetwork.com/ridecalendar/chafe-150/
LOCATION:Sandpoint City Beach Park\, 58 Bridge St\, Sandpoint\, ID\, 83864\, United States
CATEGORIES:Road
GEO:48.2729789;-116.5412681
X-APPLE-STRUCTURED-LOCATION;VALUE=URI;X-ADDRESS=Sandpoint City Beach Park 58 Bridge St Sandpoint ID 83864 United States;X-APPLE-RADIUS=500;X-TITLE=58 Bridge St:geo:-116.5412681,48.2729789
END:VEVENT
BEGIN:VEVENT
DTSTART;TZID=America/Los_Angeles:20260620T000000
DTEND;TZID=America/Los_Angeles:20260620T000000
DTSTAMP:20260420T185559
CREATED:20260203T021101Z
LAST-MODIFIED:20260203T021101Z
UID:10001106-1781913600-1781913600@pnwridenetwork.com
SUMMARY:Tour De Blast
DESCRIPTION:
URL:https://pnwridenetwork.com/ridecalendar/tour-de-blast/
LOCATION:Toutle Lake High School\, 5050 Spirit Lake Hwy\, Toutle\, WA\, 98649\, United States
CATEGORIES:Road
GEO:46.3221659;-122.4467962
X-APPLE-STRUCTURED-LOCATION;VALUE=URI;X-ADDRESS=Toutle Lake High School 5050 Spirit Lake Hwy Toutle WA 98649 United States;X-APPLE-RADIUS=500;X-TITLE=5050 Spirit Lake Hwy:geo:-122.4467962,46.3221659
END:VEVENT
BEGIN:VEVENT
DTSTART;TZID=America/Los_Angeles:20260620T000000
DTEND;TZID=America/Los_Angeles:20260620T000000
DTSTAMP:20260420T185559
CREATED:20260203T021225Z
LAST-MODIFIED:20260203T021225Z
UID:10001119-1781913600-1781913600@pnwridenetwork.com
SUMMARY:Kettle Mettle
DESCRIPTION:
URL:https://pnwridenetwork.com/ridecalendar/kettle-mettle/
LOCATION:Princeton Rodeo (Exhibition) Grounds\, 315 Laurie Currie Way\, Princeton\, BC\, V0X 1W0\, Canada
CATEGORIES:Gravel,Race
GEO:49.4761965;-120.4936264
X-APPLE-STRUCTURED-LOCATION;VALUE=URI;X-ADDRESS=Princeton Rodeo (Exhibition) Grounds 315 Laurie Currie Way Princeton BC V0X 1W0 Canada;X-APPLE-RADIUS=500;X-TITLE=315 Laurie Currie Way:geo:-120.4936264,49.4761965
END:VEVENT
BEGIN:VEVENT
DTSTART;TZID=America/Los_Angeles:20260620T080000
DTEND;TZID=America/Los_Angeles:20260620T170000
DTSTAMP:20260420T185559
CREATED:20260420T190256Z
LAST-MODIFIED:20260420T190302Z
UID:10001350-1781942400-1781974800@pnwridenetwork.com
SUMMARY:The Gorge Ride
DESCRIPTION:Distances: 39 miles\nDifficulty: Gently rolling terrain with one or two short hills\nLimited to: 500 Participants\nThis classic cycling event is back for June in the incredible Columbia River Gorge along the Historic Columbia River Highway. The ride is on very low volume traffic road and a car free trail.\n\nThink: Oregon Summer dream: Cycling up Rowena Crest. Down the Historic Columbia River Highway ~seeing the long stretching river vistas. Biking up to the east end of The Twin Tunnels. Taking a food break at Mayerdale Estate. Sample freshly picked cherries and reaching the turnaround through the canopy of trees to the Western Hatfield trailhead. Re-energize yourself with a great food stop and head back!\n\nThis is one of the happiest rides in Oregon…Join Us.\n\nNo ticket inflation;  T-shirt order cut off date: June 4th.
URL:https://pnwridenetwork.com/ridecalendar/the-gorge-ride/
LOCATION:Columbia Gorge Discovery Center & Museum\, 5000 Discovery Drive\,\, The Dalles\, OR\, 97058\, United States
CATEGORIES:Community Event
ATTACH;FMTTYPE=image/jpeg:https://pnwridenetwork.com/wp-content/uploads/2026/04/Gorge-Ride-Bikers-with-kids-trailers.jpg
ORGANIZER;CN="Friends of the Historic Columbia River Highway (FHCRH)":MAILTO:fhcrh@comcast.net
GEO:45.6544055;-121.2104392
X-APPLE-STRUCTURED-LOCATION;VALUE=URI;X-ADDRESS=Columbia Gorge Discovery Center & Museum 5000 Discovery Drive The Dalles OR 97058 United States;X-APPLE-RADIUS=500;X-TITLE=5000 Discovery Drive\,:geo:-121.2104392,45.6544055
END:VEVENT
BEGIN:VEVENT
DTSTART;TZID=America/Los_Angeles:20260621T000000
DTEND;TZID=America/Los_Angeles:20260621T000000
DTSTAMP:20260420T185559
CREATED:20260203T021007Z
LAST-MODIFIED:20260203T021007Z
UID:10001096-1782000000-1782000000@pnwridenetwork.com
SUMMARY:Spinderella Ride
DESCRIPTION:
URL:https://pnwridenetwork.com/ridecalendar/spinderella-ride/
LOCATION:Lower Ross Park\, South 2nd Street & Ross Park\, Pocatello\, ID\, 83201\, United States
CATEGORIES:Road
GEO:42.8422061;-112.4235477
X-APPLE-STRUCTURED-LOCATION;VALUE=URI;X-ADDRESS=Lower Ross Park South 2nd Street & Ross Park Pocatello ID 83201 United States;X-APPLE-RADIUS=500;X-TITLE=South 2nd Street & Ross Park:geo:-112.4235477,42.8422061
END:VEVENT
BEGIN:VEVENT
DTSTART;TZID=America/Los_Angeles:20260621T000000
DTEND;TZID=America/Los_Angeles:20260621T000000
DTSTAMP:20260420T185559
CREATED:20260203T021306Z
LAST-MODIFIED:20260203T021306Z
UID:10001129-1782000000-1782000000@pnwridenetwork.com
SUMMARY:Northwest Nonstop
DESCRIPTION:
URL:https://pnwridenetwork.com/ridecalendar/northwest-nonstop/
LOCATION:Waypoint Park\, 1145 Granary Ave\, Bellingham\, WA\, 98225\, United States
CATEGORIES:Race,Ultra
ORGANIZER;CN="Ride Yr Bike":MAILTO:https://rideyrbike.com/
GEO:48.7510941;-122.4849055
X-APPLE-STRUCTURED-LOCATION;VALUE=URI;X-ADDRESS=Waypoint Park 1145 Granary Ave Bellingham WA 98225 United States;X-APPLE-RADIUS=500;X-TITLE=1145 Granary Ave:geo:-122.4849055,48.7510941
END:VEVENT
BEGIN:VEVENT
DTSTART;TZID=America/Los_Angeles:20260621T000000
DTEND;TZID=America/Los_Angeles:20260621T235959
DTSTAMP:20260420T185559
CREATED:20260203T022045Z
LAST-MODIFIED:20260203T071502Z
UID:10001186-1782000000-1782086399@pnwridenetwork.com
SUMMARY:Cascade Cycling Classic Downtown Criterium
DESCRIPTION:
URL:https://pnwridenetwork.com/ridecalendar/cascade-cycling-classic-downtown-criterium/
LOCATION:Downtown Bend Criterium Course\, 835 NW Wall St\, Bend\, OR\, 97703\, United States
CATEGORIES:Criterium,Race
ATTACH;FMTTYPE=image/webp:https://pnwridenetwork.com/wp-content/uploads/2026/02/CCCC-Logo-V2-751x800-1.webp
GEO:44.0581728;-121.3153096
X-APPLE-STRUCTURED-LOCATION;VALUE=URI;X-ADDRESS=Downtown Bend Criterium Course 835 NW Wall St Bend OR 97703 United States;X-APPLE-RADIUS=500;X-TITLE=835 NW Wall St:geo:-121.3153096,44.0581728
END:VEVENT
BEGIN:VEVENT
DTSTART;TZID=America/Los_Angeles:20260622T000000
DTEND;TZID=America/Los_Angeles:20260622T000000
DTSTAMP:20260420T185559
CREATED:20260203T021930Z
LAST-MODIFIED:20260203T065834Z
UID:10001245-1782086400-1782086400@pnwridenetwork.com
SUMMARY:Monday Night Short Track Coyote Run
DESCRIPTION:
URL:https://pnwridenetwork.com/ridecalendar/monday-night-short-track-coyote-run-1/2026-06-22/
LOCATION:Portland International Raceway(PIR)\, 1940 North Victory Boulevard\, Portland\, OR\, 97217\, United States
CATEGORIES:Race,Short Track
ATTACH;FMTTYPE=image/jpeg:https://pnwridenetwork.com/wp-content/uploads/2026/02/a9e29133cf47f379704f0134997f1be8.jpeg
GEO:45.5966998;-122.6867531
X-APPLE-STRUCTURED-LOCATION;VALUE=URI;X-ADDRESS=Portland International Raceway(PIR) 1940 North Victory Boulevard Portland OR 97217 United States;X-APPLE-RADIUS=500;X-TITLE=1940 North Victory Boulevard:geo:-122.6867531,45.5966998
END:VEVENT
BEGIN:VEVENT
DTSTART;TZID=America/Los_Angeles:20260624T000000
DTEND;TZID=America/Los_Angeles:20260624T000000
DTSTAMP:20260420T185559
CREATED:20260203T021415Z
LAST-MODIFIED:20260203T021415Z
UID:10001136-1782259200-1782259200@pnwridenetwork.com
SUMMARY:Mt. Tabor Series Week 4
DESCRIPTION:
URL:https://pnwridenetwork.com/ridecalendar/mt-tabor-series-week-4/
LOCATION:Mt. Tabor Park\, SE 60th Ave & SE Salmon St\, Portland\, OR\, 97215\, United States
CATEGORIES:Race,Road
GEO:45.5112549;-122.5958201
X-APPLE-STRUCTURED-LOCATION;VALUE=URI;X-ADDRESS=Mt. Tabor Park SE 60th Ave & SE Salmon St Portland OR 97215 United States;X-APPLE-RADIUS=500;X-TITLE=SE 60th Ave & SE Salmon St:geo:-122.5958201,45.5112549
END:VEVENT
BEGIN:VEVENT
DTSTART;TZID=America/Los_Angeles:20260624T000000
DTEND;TZID=America/Los_Angeles:20260624T235959
DTSTAMP:20260420T185559
CREATED:20260203T022057Z
LAST-MODIFIED:20260203T071916Z
UID:10001250-1782259200-1782345599@pnwridenetwork.com
SUMMARY:Bend Summer Criterium Series
DESCRIPTION:
URL:https://pnwridenetwork.com/ridecalendar/bend-summer-criterium-series/2026-06-24/
LOCATION:Downtown Bend Criterium Course\, 835 NW Wall St\, Bend\, OR\, 97703\, United States
CATEGORIES:Criterium,Race
ATTACH;FMTTYPE=image/webp:https://pnwridenetwork.com/wp-content/uploads/2026/02/IMG_3036.webp
GEO:44.0581728;-121.3153096
X-APPLE-STRUCTURED-LOCATION;VALUE=URI;X-ADDRESS=Downtown Bend Criterium Course 835 NW Wall St Bend OR 97703 United States;X-APPLE-RADIUS=500;X-TITLE=835 NW Wall St:geo:-121.3153096,44.0581728
END:VEVENT
BEGIN:VEVENT
DTSTART;TZID=America/Los_Angeles:20260625T180000
DTEND;TZID=America/Los_Angeles:20260625T193000
DTSTAMP:20260420T185559
CREATED:20260413T223641Z
LAST-MODIFIED:20260413T223642Z
UID:10001285-1782410400-1782415800@pnwridenetwork.com
SUMMARY:Weekly BWOL road ride
DESCRIPTION:Every Thursday night\, we will be hosting a road ride starting at Bicycle Way Of Life on Charnelton. Meeting at 5:45 and leaving at 6pm\, we will ride for approximately 90 minutes. Rides each week will change depending on the group.
URL:https://pnwridenetwork.com/ridecalendar/weekly-bwol-road-ride/2026-06-25/
LOCATION:Bicycle Way of Life\, 556 Charnelton St\, Eugene\, OR 97401\, Eugene\, Oregon\, 97401\, United States
CATEGORIES:Road
ATTACH;FMTTYPE=image/jpeg:https://pnwridenetwork.com/wp-content/uploads/2026/04/1000006877.jpg
GEO:44.0536875;-123.0961984
X-APPLE-STRUCTURED-LOCATION;VALUE=URI;X-ADDRESS=Bicycle Way of Life 556 Charnelton St Eugene OR 97401 Eugene Oregon 97401 United States;X-APPLE-RADIUS=500;X-TITLE=556 Charnelton St\, Eugene\, OR 97401:geo:-123.0961984,44.0536875
END:VEVENT
BEGIN:VEVENT
DTSTART;TZID=America/Los_Angeles:20260626T000000
DTEND;TZID=America/Los_Angeles:20260628T000000
DTSTAMP:20260420T185559
CREATED:20260203T021620Z
LAST-MODIFIED:20260203T021620Z
UID:10001144-1782432000-1782604800@pnwridenetwork.com
SUMMARY:Baker City Cycling Classic
DESCRIPTION:
URL:https://pnwridenetwork.com/ridecalendar/baker-city-cycling-classic/
LOCATION:Baker City Cycling Classic\, 1824 Main St\, Baker City\, OR\, 97814\, United States
CATEGORIES:Race,Road,Stage-Race
GEO:44.777742;-117.849373
X-APPLE-STRUCTURED-LOCATION;VALUE=URI;X-ADDRESS=Baker City Cycling Classic 1824 Main St Baker City OR 97814 United States;X-APPLE-RADIUS=500;X-TITLE=1824 Main St:geo:-117.849373,44.777742
END:VEVENT
END:VCALENDAR