BEGIN:VCALENDAR
VERSION:2.0
PRODID:-//PNW Ride Network - ECPv6.15.12.2//NONSGML v1.0//EN
CALSCALE:GREGORIAN
METHOD:PUBLISH
X-WR-CALNAME:PNW Ride Network
X-ORIGINAL-URL:https://pnwridenetwork.com
X-WR-CALDESC:Events for PNW Ride Network
REFRESH-INTERVAL;VALUE=DURATION:PT1H
X-Robots-Tag:noindex
X-PUBLISHED-TTL:PT1H
BEGIN:VTIMEZONE
TZID:America/Los_Angeles
BEGIN:DAYLIGHT
TZOFFSETFROM:-0800
TZOFFSETTO:-0700
TZNAME:PDT
DTSTART:20250309T100000
END:DAYLIGHT
BEGIN:STANDARD
TZOFFSETFROM:-0700
TZOFFSETTO:-0800
TZNAME:PST
DTSTART:20251102T090000
END:STANDARD
BEGIN:DAYLIGHT
TZOFFSETFROM:-0800
TZOFFSETTO:-0700
TZNAME:PDT
DTSTART:20260308T100000
END:DAYLIGHT
BEGIN:STANDARD
TZOFFSETFROM:-0700
TZOFFSETTO:-0800
TZNAME:PST
DTSTART:20261101T090000
END:STANDARD
BEGIN:DAYLIGHT
TZOFFSETFROM:-0800
TZOFFSETTO:-0700
TZNAME:PDT
DTSTART:20270314T100000
END:DAYLIGHT
BEGIN:STANDARD
TZOFFSETFROM:-0700
TZOFFSETTO:-0800
TZNAME:PST
DTSTART:20271107T090000
END:STANDARD
END:VTIMEZONE
BEGIN:VEVENT
DTSTART;TZID=America/Los_Angeles:20260426T000000
DTEND;TZID=America/Los_Angeles:20260426T000000
DTSTAMP:20260423T173206
CREATED:20260203T021011Z
LAST-MODIFIED:20260222T145506Z
UID:10001100-1777161600-1777161600@pnwridenetwork.com
SUMMARY:McClinchy Mile
DESCRIPTION:
URL:https://pnwridenetwork.com/ridecalendar/mcclinchy-mile/
LOCATION:Stanwood Middle School\, 9405 271st St NW\, Stanwood\, WA\, 98292\, United States
CATEGORIES:Road
ATTACH;FMTTYPE=image/png:https://pnwridenetwork.com/wp-content/uploads/2026/02/McClinchy_Official_Logo_smaller.png
GEO:48.2425654;-122.3611469
X-APPLE-STRUCTURED-LOCATION;VALUE=URI;X-ADDRESS=Stanwood Middle School 9405 271st St NW Stanwood WA 98292 United States;X-APPLE-RADIUS=500;X-TITLE=9405 271st St NW:geo:-122.3611469,48.2425654
END:VEVENT
BEGIN:VEVENT
DTSTART;TZID=America/Los_Angeles:20260427T163000
DTEND;TZID=America/Los_Angeles:20260427T200000
DTSTAMP:20260423T173206
CREATED:20260203T021857Z
LAST-MODIFIED:20260203T042800Z
UID:10001223-1777307400-1777320000@pnwridenetwork.com
SUMMARY:Monday Night PIR
DESCRIPTION:
URL:https://pnwridenetwork.com/ridecalendar/monday-night-pir-week-1/2026-04-27/
LOCATION:Portland International Raceway(PIR)\, 1940 North Victory Boulevard\, Portland\, OR\, 97217\, United States
CATEGORIES:Race,Road
ATTACH;FMTTYPE=image/png:https://pnwridenetwork.com/wp-content/uploads/2026/02/image-10.png
GEO:45.5966998;-122.6867531
X-APPLE-STRUCTURED-LOCATION;VALUE=URI;X-ADDRESS=Portland International Raceway(PIR) 1940 North Victory Boulevard Portland OR 97217 United States;X-APPLE-RADIUS=500;X-TITLE=1940 North Victory Boulevard:geo:-122.6867531,45.5966998
END:VEVENT
BEGIN:VEVENT
DTSTART;TZID=America/Los_Angeles:20260429T173000
DTEND;TZID=America/Los_Angeles:20260429T183000
DTSTAMP:20260423T173207
CREATED:20260423T184322Z
LAST-MODIFIED:20260423T184334Z
UID:10001352-1777483800-1777487400@pnwridenetwork.com
SUMMARY:Lane County Commissioner District 1 Candidate Transportation Forum on River Road\, etc.
DESCRIPTION:Hear from Lane County Commissioner District 1 candidates about River Road and other transportation issues.\n\nThis informal transportation forum is intended to educate members of the public and candidates about key transportation issues affecting our community. Attendees will have a chance to hear from and ask questions of each participating candidate. Everyone and all points of view are welcome. Attendees are encouraged to share their concerns and also to listen and be respectful of others.\n\nBEST does not support or oppose any candidate for elected office. BEST is an independently-funded 501(3)(c) tax-exempt organization. Its mission is to build a successful community by bringing people together to promote transportation options\, safe streets\, and walkable neighborhoods. Learn more at best-oregon.org.\n\nIn advance of the May primary election\, BEST is hosting five candidate transportation forums:\n\n• Tuesday 4/14: Coburg Road with Eugene City Council Wards 4 & 5 candidates\n• Thursday 4/23: Highway 99 with Eugene City Council Ward 6 candidates\n• Tuesday 4/28: Franklin Boulevard with Eugene City Council Ward 3 candidates\n• Wednesday 4/29: River Road with Lane County Commissioner District 1 candidates\n• Thursday 4/30: Springfield with Lane County Commissioner District 2 candidates\n\nLearn more at www.best-oregon.org/2026/03/candidate-forums-2026/
URL:https://pnwridenetwork.com/ridecalendar/lane-county-commissioner-district-1-candidate-transportation-forum-on-river-road-etc/
LOCATION:Abby’s Legendary Pizza\, 1970 River Rd\, Eugene\, 97404\, United States
CATEGORIES:Advocacy
ATTACH;FMTTYPE=image/png:https://pnwridenetwork.com/wp-content/uploads/2026/04/Candidate-Forum-on-Transportation-Flyer-2026-3.png
GEO:44.0936876;-123.1296091
X-APPLE-STRUCTURED-LOCATION;VALUE=URI;X-ADDRESS=Abby’s Legendary Pizza 1970 River Rd Eugene 97404 United States;X-APPLE-RADIUS=500;X-TITLE=1970 River Rd:geo:-123.1296091,44.0936876
END:VEVENT
BEGIN:VEVENT
DTSTART;TZID=America/Los_Angeles:20260430T180000
DTEND;TZID=America/Los_Angeles:20260430T190000
DTSTAMP:20260423T173207
CREATED:20260423T184143Z
LAST-MODIFIED:20260423T184157Z
UID:10001353-1777572000-1777575600@pnwridenetwork.com
SUMMARY:Lane County Commissioner District 2 Candidate Transportation Forum on Springfield\, etc.
DESCRIPTION:Hear from Lane County Commissioner District 2 candidates about Springfield and other transportation issues.\n\nThis informal transportation forum is intended to educate members of the public and candidates about key transportation issues affecting our community. Attendees will have a chance to hear from and ask questions of each participating candidate. Everyone and all points of view are welcome. Attendees are encouraged to share their concerns and also to listen and be respectful of others.\n\nBEST does not support or oppose any candidate for elected office. BEST is an independently-funded 501(3)(c) tax-exempt organization. Its mission is to build a successful community by bringing people together to promote transportation options\, safe streets\, and walkable neighborhoods. Learn more at best-oregon.org.\n\nIn advance of the May primary election\, BEST is hosting five candidate transportation forums:\n\n• Tuesday 4/14: Coburg Road with Eugene City Council Wards 4 & 5 candidates\n• Thursday 4/23: Highway 99 with Eugene City Council Ward 6 candidates\n• Tuesday 4/28: Franklin Boulevard with Eugene City Council Ward 3 candidates\n• Wednesday 4/29: River Road with Lane County Commissioner District 1 candidates\n• Thursday 4/30: Springfield with Lane County Commissioner District 2 candidates\n\nLearn more at www.best-oregon.org/2026/03/candidate-forums-2026/
URL:https://pnwridenetwork.com/ridecalendar/lane-county-commissioner-district-2-candidate-transportation-forum-on-springfield-etc/
LOCATION:Willamalane Adult Activity Center\, 215 W C St\, Springfield\, OR\, 97477\, United States
CATEGORIES:Advocacy
ATTACH;FMTTYPE=image/png:https://pnwridenetwork.com/wp-content/uploads/2026/04/Candidate-Forum-on-Transportation-Flyer-2026-6-1-1.png
GEO:44.0485563;-123.0275869
X-APPLE-STRUCTURED-LOCATION;VALUE=URI;X-ADDRESS=Willamalane Adult Activity Center 215 W C St Springfield OR 97477 United States;X-APPLE-RADIUS=500;X-TITLE=215 W C St:geo:-123.0275869,44.0485563
END:VEVENT
BEGIN:VEVENT
DTSTART;TZID=America/Los_Angeles:20260430T180000
DTEND;TZID=America/Los_Angeles:20260430T193000
DTSTAMP:20260423T173207
CREATED:20260413T223641Z
LAST-MODIFIED:20260413T223642Z
UID:10001277-1777572000-1777577400@pnwridenetwork.com
SUMMARY:Weekly BWOL road ride
DESCRIPTION:Every Thursday night\, we will be hosting a road ride starting at Bicycle Way Of Life on Charnelton. Meeting at 5:45 and leaving at 6pm\, we will ride for approximately 90 minutes. Rides each week will change depending on the group.
URL:https://pnwridenetwork.com/ridecalendar/weekly-bwol-road-ride/2026-04-30/
LOCATION:Bicycle Way of Life\, 556 Charnelton St\, Eugene\, OR 97401\, Eugene\, Oregon\, 97401\, United States
CATEGORIES:Road
ATTACH;FMTTYPE=image/jpeg:https://pnwridenetwork.com/wp-content/uploads/2026/04/1000006877.jpg
GEO:44.0536875;-123.0961984
X-APPLE-STRUCTURED-LOCATION;VALUE=URI;X-ADDRESS=Bicycle Way of Life 556 Charnelton St Eugene OR 97401 Eugene Oregon 97401 United States;X-APPLE-RADIUS=500;X-TITLE=556 Charnelton St\, Eugene\, OR 97401:geo:-123.0961984,44.0536875
END:VEVENT
BEGIN:VEVENT
DTSTART;TZID=America/Los_Angeles:20260502T000000
DTEND;TZID=America/Los_Angeles:20260502T000000
DTSTAMP:20260423T173207
CREATED:20260203T020453Z
LAST-MODIFIED:20260222T150625Z
UID:10001064-1777680000-1777680000@pnwridenetwork.com
SUMMARY:Oregon Coast Gravel Epic
DESCRIPTION:
URL:https://pnwridenetwork.com/ridecalendar/oregon-coast-gravel-epic/
LOCATION:Waldport Community Center\, 265 NW Hemlock St\, Waldport\, OR\, 97394\, United States
CATEGORIES:Gravel,Race
ATTACH;FMTTYPE=image/png:https://pnwridenetwork.com/wp-content/uploads/2026/02/Screenshot-2026-02-22-070424.png
ORGANIZER;CN="Mudslinger Events":MAILTO:mike@mudslingerevents.com
GEO:44.4266547;-124.0638185
X-APPLE-STRUCTURED-LOCATION;VALUE=URI;X-ADDRESS=Waldport Community Center 265 NW Hemlock St Waldport OR 97394 United States;X-APPLE-RADIUS=500;X-TITLE=265 NW Hemlock St:geo:-124.0638185,44.4266547
END:VEVENT
BEGIN:VEVENT
DTSTART;TZID=America/Los_Angeles:20260502T000000
DTEND;TZID=America/Los_Angeles:20260502T000000
DTSTAMP:20260423T173207
CREATED:20260203T021012Z
LAST-MODIFIED:20260224T153701Z
UID:10001101-1777680000-1777680000@pnwridenetwork.com
SUMMARY:Tour de Cure
DESCRIPTION:
URL:https://pnwridenetwork.com/ridecalendar/tour-de-cure/
LOCATION:The Park at Bothell Landing\, 9919 NE 180th St\, Bothell\, WA\, 98011\, United States
CATEGORIES:Road
ATTACH;FMTTYPE=image/jpeg:https://pnwridenetwork.com/wp-content/uploads/2026/02/tourdecureNC.jpg
GEO:47.7580263;-122.208128
X-APPLE-STRUCTURED-LOCATION;VALUE=URI;X-ADDRESS=The Park at Bothell Landing 9919 NE 180th St Bothell WA 98011 United States;X-APPLE-RADIUS=500;X-TITLE=9919 NE 180th St:geo:-122.208128,47.7580263
END:VEVENT
BEGIN:VEVENT
DTSTART;TZID=America/Los_Angeles:20260503T000000
DTEND;TZID=America/Los_Angeles:20260503T000000
DTSTAMP:20260423T173207
CREATED:20260203T020453Z
LAST-MODIFIED:20260224T153951Z
UID:10001065-1777766400-1777766400@pnwridenetwork.com
SUMMARY:West Coast Gravel
DESCRIPTION:
URL:https://pnwridenetwork.com/ridecalendar/west-coast-gravel/
LOCATION:Yachats Commons Building\, 441 Hwy 101 N\, Yachats\, OR\, 97498\, United States
CATEGORIES:Gravel,Race
ATTACH;FMTTYPE=image/png:https://pnwridenetwork.com/wp-content/uploads/2026/02/Screenshot-2026-02-24-073809.png
ORGANIZER;CN="Mudslinger Events":MAILTO:mike@mudslingerevents.com
GEO:44.3127985;-124.1050492
X-APPLE-STRUCTURED-LOCATION;VALUE=URI;X-ADDRESS=Yachats Commons Building 441 Hwy 101 N Yachats OR 97498 United States;X-APPLE-RADIUS=500;X-TITLE=441 Hwy 101 N:geo:-124.1050492,44.3127985
END:VEVENT
BEGIN:VEVENT
DTSTART;TZID=America/Los_Angeles:20260504T163000
DTEND;TZID=America/Los_Angeles:20260504T200000
DTSTAMP:20260423T173207
CREATED:20260203T021857Z
LAST-MODIFIED:20260203T042800Z
UID:10001224-1777912200-1777924800@pnwridenetwork.com
SUMMARY:Monday Night PIR
DESCRIPTION:
URL:https://pnwridenetwork.com/ridecalendar/monday-night-pir-week-1/2026-05-04/
LOCATION:Portland International Raceway(PIR)\, 1940 North Victory Boulevard\, Portland\, OR\, 97217\, United States
CATEGORIES:Race,Road
ATTACH;FMTTYPE=image/png:https://pnwridenetwork.com/wp-content/uploads/2026/02/image-10.png
GEO:45.5966998;-122.6867531
X-APPLE-STRUCTURED-LOCATION;VALUE=URI;X-ADDRESS=Portland International Raceway(PIR) 1940 North Victory Boulevard Portland OR 97217 United States;X-APPLE-RADIUS=500;X-TITLE=1940 North Victory Boulevard:geo:-122.6867531,45.5966998
END:VEVENT
BEGIN:VEVENT
DTSTART;TZID=America/Los_Angeles:20260505T000000
DTEND;TZID=America/Los_Angeles:20260505T000000
DTSTAMP:20260423T173207
CREATED:20260203T021912Z
LAST-MODIFIED:20260224T154127Z
UID:10001230-1777939200-1777939200@pnwridenetwork.com
SUMMARY:Tuesday Night PIR
DESCRIPTION:
URL:https://pnwridenetwork.com/ridecalendar/tuesday-night-pir-week-1/2026-05-05/
LOCATION:Portland International Raceway(PIR)\, 1940 North Victory Boulevard\, Portland\, OR\, 97217\, United States
CATEGORIES:Race,Road
ATTACH;FMTTYPE=image/png:https://pnwridenetwork.com/wp-content/uploads/2026/02/image-11-1.png
GEO:45.5966998;-122.6867531
X-APPLE-STRUCTURED-LOCATION;VALUE=URI;X-ADDRESS=Portland International Raceway(PIR) 1940 North Victory Boulevard Portland OR 97217 United States;X-APPLE-RADIUS=500;X-TITLE=1940 North Victory Boulevard:geo:-122.6867531,45.5966998
END:VEVENT
BEGIN:VEVENT
DTSTART;TZID=America/Los_Angeles:20260505T000000
DTEND;TZID=America/Los_Angeles:20260505T235959
DTSTAMP:20260423T173207
CREATED:20260203T021913Z
LAST-MODIFIED:20260224T154628Z
UID:10001236-1777939200-1778025599@pnwridenetwork.com
SUMMARY:Twilight Time Trial Series
DESCRIPTION:
URL:https://pnwridenetwork.com/ridecalendar/twilight-time-trial-series-week-1/2026-05-05/
LOCATION:Coburg Community Charter School\, 91274 N Coburg Rd\, Coburg (Eugene area)\, OR\, 97408\, United States
CATEGORIES:Race,Time Trial TT
ATTACH;FMTTYPE=image/png:https://pnwridenetwork.com/wp-content/uploads/2026/02/Screenshot-2026-02-24-074541.png
GEO:44.142696;-123.0723884
X-APPLE-STRUCTURED-LOCATION;VALUE=URI;X-ADDRESS=Coburg Community Charter School 91274 N Coburg Rd Coburg (Eugene area) OR 97408 United States;X-APPLE-RADIUS=500;X-TITLE=91274 N Coburg Rd:geo:-123.0723884,44.142696
END:VEVENT
BEGIN:VEVENT
DTSTART;TZID=America/Los_Angeles:20260507T180000
DTEND;TZID=America/Los_Angeles:20260507T193000
DTSTAMP:20260423T173207
CREATED:20260413T223641Z
LAST-MODIFIED:20260413T223642Z
UID:10001278-1778176800-1778182200@pnwridenetwork.com
SUMMARY:Weekly BWOL road ride
DESCRIPTION:Every Thursday night\, we will be hosting a road ride starting at Bicycle Way Of Life on Charnelton. Meeting at 5:45 and leaving at 6pm\, we will ride for approximately 90 minutes. Rides each week will change depending on the group.
URL:https://pnwridenetwork.com/ridecalendar/weekly-bwol-road-ride/2026-05-07/
LOCATION:Bicycle Way of Life\, 556 Charnelton St\, Eugene\, OR 97401\, Eugene\, Oregon\, 97401\, United States
CATEGORIES:Road
ATTACH;FMTTYPE=image/jpeg:https://pnwridenetwork.com/wp-content/uploads/2026/04/1000006877.jpg
GEO:44.0536875;-123.0961984
X-APPLE-STRUCTURED-LOCATION;VALUE=URI;X-ADDRESS=Bicycle Way of Life 556 Charnelton St Eugene OR 97401 Eugene Oregon 97401 United States;X-APPLE-RADIUS=500;X-TITLE=556 Charnelton St\, Eugene\, OR 97401:geo:-123.0961984,44.0536875
END:VEVENT
BEGIN:VEVENT
DTSTART;TZID=America/Los_Angeles:20260508T000000
DTEND;TZID=America/Los_Angeles:20260510T000000
DTSTAMP:20260423T173207
CREATED:20260203T021220Z
LAST-MODIFIED:20260224T154903Z
UID:10001114-1778198400-1778371200@pnwridenetwork.com
SUMMARY:Cycle Oregon Gravel Weekend
DESCRIPTION:
URL:https://pnwridenetwork.com/ridecalendar/cycle-oregon-gravel-weekend/
LOCATION:Wasco County Fairgrounds\, 81849 Fairgrounds Rd\, Tygh Valley\, OR\, 97063\, United States
CATEGORIES:Community Event,Gravel
ATTACH;FMTTYPE=image/jpeg:https://pnwridenetwork.com/wp-content/uploads/2026/02/Cycle_Oregon_GRAVEL_2026_Event_Page_Carosuel_7-1024x683-1.jpg
ORGANIZER;CN="Cycle Oregon":MAILTO:info@cycleoregon.com
GEO:45.2555387;-121.2078723
X-APPLE-STRUCTURED-LOCATION;VALUE=URI;X-ADDRESS=Wasco County Fairgrounds 81849 Fairgrounds Rd Tygh Valley OR 97063 United States;X-APPLE-RADIUS=500;X-TITLE=81849 Fairgrounds Rd:geo:-121.2078723,45.2555387
END:VEVENT
BEGIN:VEVENT
DTSTART;TZID=America/Los_Angeles:20260509T000000
DTEND;TZID=America/Los_Angeles:20260509T000000
DTSTAMP:20260423T173207
CREATED:20260203T021059Z
LAST-MODIFIED:20260330T175549Z
UID:10001102-1778284800-1778284800@pnwridenetwork.com
SUMMARY:Inland Empire Century
DESCRIPTION:
URL:https://pnwridenetwork.com/ridecalendar/inland-empire-century/
LOCATION:Camp Kiwanis\, 6007 Columbia Park Trail\, Kennewick\, WA\, 99336\, United States
CATEGORIES:Road
ATTACH;FMTTYPE=image/png:https://pnwridenetwork.com/wp-content/uploads/2026/02/Screenshot-2026-02-24-075352.png
GEO:46.2321638;-119.201377
X-APPLE-STRUCTURED-LOCATION;VALUE=URI;X-ADDRESS=Camp Kiwanis 6007 Columbia Park Trail Kennewick WA 99336 United States;X-APPLE-RADIUS=500;X-TITLE=6007 Columbia Park Trail:geo:-119.201377,46.2321638
END:VEVENT
BEGIN:VEVENT
DTSTART;TZID=America/Los_Angeles:20260509T000000
DTEND;TZID=America/Los_Angeles:20260509T000000
DTSTAMP:20260423T173207
CREATED:20260203T021059Z
LAST-MODIFIED:20260224T155125Z
UID:10001103-1778284800-1778284800@pnwridenetwork.com
SUMMARY:Skagit Spring Classic
DESCRIPTION:
URL:https://pnwridenetwork.com/ridecalendar/skagit-spring-classic/
LOCATION:Oregon
CATEGORIES:Road
ATTACH;FMTTYPE=image/png:https://pnwridenetwork.com/wp-content/uploads/2026/02/SSC-Banner_2026_507811669.png
END:VEVENT
BEGIN:VEVENT
DTSTART;TZID=America/Los_Angeles:20260509T000000
DTEND;TZID=America/Los_Angeles:20260509T235959
DTSTAMP:20260423T173208
CREATED:20260203T021914Z
LAST-MODIFIED:20260203T064453Z
UID:10001165-1778284800-1778371199@pnwridenetwork.com
SUMMARY:Coast Hills Classic MTB
DESCRIPTION:
URL:https://pnwridenetwork.com/ridecalendar/coast-hills-classic-mtb/
LOCATION:Wilder Trails\, 4590 SE Harborton St\, Newport\, OR\, 97366\, United States
CATEGORIES:Race
ATTACH;FMTTYPE=image/jpeg:https://pnwridenetwork.com/wp-content/uploads/2026/02/506181459_1189372929657857_2890575614057963850_n.jpg
GEO:44.6031805;-124.0432972
X-APPLE-STRUCTURED-LOCATION;VALUE=URI;X-ADDRESS=Wilder Trails 4590 SE Harborton St Newport OR 97366 United States;X-APPLE-RADIUS=500;X-TITLE=4590 SE Harborton St:geo:-124.0432972,44.6031805
END:VEVENT
BEGIN:VEVENT
DTSTART;TZID=America/Los_Angeles:20260511T163000
DTEND;TZID=America/Los_Angeles:20260511T200000
DTSTAMP:20260423T173208
CREATED:20260203T021857Z
LAST-MODIFIED:20260203T042800Z
UID:10001225-1778517000-1778529600@pnwridenetwork.com
SUMMARY:Monday Night PIR
DESCRIPTION:
URL:https://pnwridenetwork.com/ridecalendar/monday-night-pir-week-1/2026-05-11/
LOCATION:Portland International Raceway(PIR)\, 1940 North Victory Boulevard\, Portland\, OR\, 97217\, United States
CATEGORIES:Race,Road
ATTACH;FMTTYPE=image/png:https://pnwridenetwork.com/wp-content/uploads/2026/02/image-10.png
GEO:45.5966998;-122.6867531
X-APPLE-STRUCTURED-LOCATION;VALUE=URI;X-ADDRESS=Portland International Raceway(PIR) 1940 North Victory Boulevard Portland OR 97217 United States;X-APPLE-RADIUS=500;X-TITLE=1940 North Victory Boulevard:geo:-122.6867531,45.5966998
END:VEVENT
BEGIN:VEVENT
DTSTART;TZID=America/Los_Angeles:20260512T000000
DTEND;TZID=America/Los_Angeles:20260512T000000
DTSTAMP:20260423T173208
CREATED:20260203T021912Z
LAST-MODIFIED:20260224T154127Z
UID:10001231-1778544000-1778544000@pnwridenetwork.com
SUMMARY:Tuesday Night PIR
DESCRIPTION:
URL:https://pnwridenetwork.com/ridecalendar/tuesday-night-pir-week-1/2026-05-12/
LOCATION:Portland International Raceway(PIR)\, 1940 North Victory Boulevard\, Portland\, OR\, 97217\, United States
CATEGORIES:Race,Road
ATTACH;FMTTYPE=image/png:https://pnwridenetwork.com/wp-content/uploads/2026/02/image-11-1.png
GEO:45.5966998;-122.6867531
X-APPLE-STRUCTURED-LOCATION;VALUE=URI;X-ADDRESS=Portland International Raceway(PIR) 1940 North Victory Boulevard Portland OR 97217 United States;X-APPLE-RADIUS=500;X-TITLE=1940 North Victory Boulevard:geo:-122.6867531,45.5966998
END:VEVENT
BEGIN:VEVENT
DTSTART;TZID=America/Los_Angeles:20260512T000000
DTEND;TZID=America/Los_Angeles:20260512T235959
DTSTAMP:20260423T173208
CREATED:20260203T021913Z
LAST-MODIFIED:20260224T154628Z
UID:10001237-1778544000-1778630399@pnwridenetwork.com
SUMMARY:Twilight Time Trial Series
DESCRIPTION:
URL:https://pnwridenetwork.com/ridecalendar/twilight-time-trial-series-week-1/2026-05-12/
LOCATION:Coburg Community Charter School\, 91274 N Coburg Rd\, Coburg (Eugene area)\, OR\, 97408\, United States
CATEGORIES:Race,Time Trial TT
ATTACH;FMTTYPE=image/png:https://pnwridenetwork.com/wp-content/uploads/2026/02/Screenshot-2026-02-24-074541.png
GEO:44.142696;-123.0723884
X-APPLE-STRUCTURED-LOCATION;VALUE=URI;X-ADDRESS=Coburg Community Charter School 91274 N Coburg Rd Coburg (Eugene area) OR 97408 United States;X-APPLE-RADIUS=500;X-TITLE=91274 N Coburg Rd:geo:-123.0723884,44.142696
END:VEVENT
BEGIN:VEVENT
DTSTART;TZID=America/Los_Angeles:20260514T180000
DTEND;TZID=America/Los_Angeles:20260514T193000
DTSTAMP:20260423T173208
CREATED:20260413T223641Z
LAST-MODIFIED:20260413T223642Z
UID:10001279-1778781600-1778787000@pnwridenetwork.com
SUMMARY:Weekly BWOL road ride
DESCRIPTION:Every Thursday night\, we will be hosting a road ride starting at Bicycle Way Of Life on Charnelton. Meeting at 5:45 and leaving at 6pm\, we will ride for approximately 90 minutes. Rides each week will change depending on the group.
URL:https://pnwridenetwork.com/ridecalendar/weekly-bwol-road-ride/2026-05-14/
LOCATION:Bicycle Way of Life\, 556 Charnelton St\, Eugene\, OR 97401\, Eugene\, Oregon\, 97401\, United States
CATEGORIES:Road
ATTACH;FMTTYPE=image/jpeg:https://pnwridenetwork.com/wp-content/uploads/2026/04/1000006877.jpg
GEO:44.0536875;-123.0961984
X-APPLE-STRUCTURED-LOCATION;VALUE=URI;X-ADDRESS=Bicycle Way of Life 556 Charnelton St Eugene OR 97401 Eugene Oregon 97401 United States;X-APPLE-RADIUS=500;X-TITLE=556 Charnelton St\, Eugene\, OR 97401:geo:-123.0961984,44.0536875
END:VEVENT
BEGIN:VEVENT
DTSTART;TZID=America/Los_Angeles:20260515T000000
DTEND;TZID=America/Los_Angeles:20260515T000000
DTSTAMP:20260423T173208
CREATED:20260203T021307Z
LAST-MODIFIED:20260224T160032Z
UID:10001131-1778803200-1778803200@pnwridenetwork.com
SUMMARY:WILLAMT NONSTOP
DESCRIPTION:
URL:https://pnwridenetwork.com/ridecalendar/willamt-nonstop/
LOCATION:Parklane Park\, 15501 SE Main St\, Portland\, OR\, 97233\, United States
CATEGORIES:Race,Ultra
ATTACH;FMTTYPE=image/png:https://pnwridenetwork.com/wp-content/uploads/2026/02/Screenshot-2026-02-24-075850.png
ORGANIZER;CN="Ride Yr Bike":MAILTO:https://rideyrbike.com/
GEO:45.5133069;-122.5044786
X-APPLE-STRUCTURED-LOCATION;VALUE=URI;X-ADDRESS=Parklane Park 15501 SE Main St Portland OR 97233 United States;X-APPLE-RADIUS=500;X-TITLE=15501 SE Main St:geo:-122.5044786,45.5133069
END:VEVENT
BEGIN:VEVENT
DTSTART;TZID=America/Los_Angeles:20260516T000000
DTEND;TZID=America/Los_Angeles:20260516T000000
DTSTAMP:20260423T173208
CREATED:20260203T020454Z
LAST-MODIFIED:20260321T042127Z
UID:10001066-1778889600-1778889600@pnwridenetwork.com
SUMMARY:Siskiyou Scenic Bicycle Tour Day 1
DESCRIPTION:
URL:https://pnwridenetwork.com/ridecalendar/siskiyou-scenic-bicycle-tour-day-1/
LOCATION:Upper Greenhorn Park\, Greenhorn Rd\, Yreka\, CA\, 96097\, United States
CATEGORIES:Gravel,Road
ATTACH;FMTTYPE=image/jpeg:https://pnwridenetwork.com/wp-content/uploads/2026/02/SISQ-bike-tour-2026.jpeg
GEO:41.7093387;-122.6613607
X-APPLE-STRUCTURED-LOCATION;VALUE=URI;X-ADDRESS=Upper Greenhorn Park Greenhorn Rd Yreka CA 96097 United States;X-APPLE-RADIUS=500;X-TITLE=Greenhorn Rd:geo:-122.6613607,41.7093387
END:VEVENT
BEGIN:VEVENT
DTSTART;TZID=America/Los_Angeles:20260516T000000
DTEND;TZID=America/Los_Angeles:20260516T000000
DTSTAMP:20260423T173208
CREATED:20260203T020507Z
LAST-MODIFIED:20260203T020507Z
UID:10001068-1778889600-1778889600@pnwridenetwork.com
SUMMARY:Oregon Gran Fondo
DESCRIPTION:
URL:https://pnwridenetwork.com/ridecalendar/oregon-gran-fondo/
LOCATION:Bohemia Park\, 101 North 10th Street\, Cottage Grove\, OR\, 97424\, United States
CATEGORIES:Gravel,Race,Road
ORGANIZER;CN="Mudslinger Events":MAILTO:mike@mudslingerevents.com
GEO:43.7945457;-123.0590304
X-APPLE-STRUCTURED-LOCATION;VALUE=URI;X-ADDRESS=Bohemia Park 101 North 10th Street Cottage Grove OR 97424 United States;X-APPLE-RADIUS=500;X-TITLE=101 North 10th Street:geo:-123.0590304,43.7945457
END:VEVENT
BEGIN:VEVENT
DTSTART;TZID=America/Los_Angeles:20260516T000000
DTEND;TZID=America/Los_Angeles:20260516T235959
DTSTAMP:20260423T173208
CREATED:20260203T021929Z
LAST-MODIFIED:20260203T065505Z
UID:10001169-1778889600-1778975999@pnwridenetwork.com
SUMMARY:Silver Falls XC MTB
DESCRIPTION:
URL:https://pnwridenetwork.com/ridecalendar/silver-falls-xc-mtb/
LOCATION:Silver Falls State Park\, 20024 Silver Falls Hwy SE\, Sublimity\, OR\, 97385\, United States
CATEGORIES:Race
ATTACH;FMTTYPE=image/avif:https://pnwridenetwork.com/wp-content/uploads/2026/02/615b12_56a8361d44ba438b94ed6797169b0ea9mv2.avif
ORGANIZER;CN="Capitol Velo":MAILTO:admin@capitolvelo.com
GEO:44.8697025;-122.6370076
X-APPLE-STRUCTURED-LOCATION;VALUE=URI;X-ADDRESS=Silver Falls State Park 20024 Silver Falls Hwy SE Sublimity OR 97385 United States;X-APPLE-RADIUS=500;X-TITLE=20024 Silver Falls Hwy SE:geo:-122.6370076,44.8697025
END:VEVENT
BEGIN:VEVENT
DTSTART;TZID=America/Los_Angeles:20260516T000000
DTEND;TZID=America/Los_Angeles:20260517T000000
DTSTAMP:20260423T173208
CREATED:20260203T021620Z
LAST-MODIFIED:20260203T021620Z
UID:10001143-1778889600-1778976000@pnwridenetwork.com
SUMMARY:Fixed 400
DESCRIPTION:
URL:https://pnwridenetwork.com/ridecalendar/fixed-400/
LOCATION:Oregon
CATEGORIES:Race,Road
END:VEVENT
BEGIN:VEVENT
DTSTART;TZID=America/Los_Angeles:20260517T000000
DTEND;TZID=America/Los_Angeles:20260517T000000
DTSTAMP:20260423T173208
CREATED:20260203T020455Z
LAST-MODIFIED:20260321T042345Z
UID:10001067-1778976000-1778976000@pnwridenetwork.com
SUMMARY:Siskiyou Scenic Bicycle Tour Day 2
DESCRIPTION:
URL:https://pnwridenetwork.com/ridecalendar/siskiyou-scenic-bicycle-tour-day-2/
LOCATION:Upper Greenhorn Park\, Greenhorn Rd\, Yreka\, CA\, 96097\, United States
CATEGORIES:Gravel,Road
ATTACH;FMTTYPE=image/jpeg:https://pnwridenetwork.com/wp-content/uploads/2026/02/SISQ-bike-tour-2026-1.jpeg
GEO:41.7093387;-122.6613607
X-APPLE-STRUCTURED-LOCATION;VALUE=URI;X-ADDRESS=Upper Greenhorn Park Greenhorn Rd Yreka CA 96097 United States;X-APPLE-RADIUS=500;X-TITLE=Greenhorn Rd:geo:-122.6613607,41.7093387
END:VEVENT
BEGIN:VEVENT
DTSTART;TZID=America/Los_Angeles:20260517T000000
DTEND;TZID=America/Los_Angeles:20260517T000000
DTSTAMP:20260423T173208
CREATED:20260203T021010Z
LAST-MODIFIED:20260203T021010Z
UID:10001098-1778976000-1778976000@pnwridenetwork.com
SUMMARY:Four Peaks Gran Fondo
DESCRIPTION:
URL:https://pnwridenetwork.com/ridecalendar/four-peaks-gran-fondo/
LOCATION:Oregon
CATEGORIES:Race,Road
END:VEVENT
BEGIN:VEVENT
DTSTART;TZID=America/Los_Angeles:20260517T000000
DTEND;TZID=America/Los_Angeles:20260517T000000
DTSTAMP:20260423T173208
CREATED:20260203T021853Z
LAST-MODIFIED:20260203T021853Z
UID:10001154-1778976000-1778976000@pnwridenetwork.com
SUMMARY:XWA
DESCRIPTION:
URL:https://pnwridenetwork.com/ridecalendar/xwa/
LOCATION:Oregon
CATEGORIES:Race
END:VEVENT
BEGIN:VEVENT
DTSTART;TZID=America/Los_Angeles:20260518T000000
DTEND;TZID=America/Los_Angeles:20260518T000000
DTSTAMP:20260423T173208
CREATED:20260203T021930Z
LAST-MODIFIED:20260203T065834Z
UID:10001240-1779062400-1779062400@pnwridenetwork.com
SUMMARY:Monday Night Short Track Coyote Run
DESCRIPTION:
URL:https://pnwridenetwork.com/ridecalendar/monday-night-short-track-coyote-run-1/2026-05-18/
LOCATION:Portland International Raceway(PIR)\, 1940 North Victory Boulevard\, Portland\, OR\, 97217\, United States
CATEGORIES:Race,Short Track
ATTACH;FMTTYPE=image/jpeg:https://pnwridenetwork.com/wp-content/uploads/2026/02/a9e29133cf47f379704f0134997f1be8.jpeg
GEO:45.5966998;-122.6867531
X-APPLE-STRUCTURED-LOCATION;VALUE=URI;X-ADDRESS=Portland International Raceway(PIR) 1940 North Victory Boulevard Portland OR 97217 United States;X-APPLE-RADIUS=500;X-TITLE=1940 North Victory Boulevard:geo:-122.6867531,45.5966998
END:VEVENT
BEGIN:VEVENT
DTSTART;TZID=America/Los_Angeles:20260518T163000
DTEND;TZID=America/Los_Angeles:20260518T200000
DTSTAMP:20260423T173208
CREATED:20260203T021857Z
LAST-MODIFIED:20260203T042800Z
UID:10001226-1779121800-1779134400@pnwridenetwork.com
SUMMARY:Monday Night PIR
DESCRIPTION:
URL:https://pnwridenetwork.com/ridecalendar/monday-night-pir-week-1/2026-05-18/
LOCATION:Portland International Raceway(PIR)\, 1940 North Victory Boulevard\, Portland\, OR\, 97217\, United States
CATEGORIES:Race,Road
ATTACH;FMTTYPE=image/png:https://pnwridenetwork.com/wp-content/uploads/2026/02/image-10.png
GEO:45.5966998;-122.6867531
X-APPLE-STRUCTURED-LOCATION;VALUE=URI;X-ADDRESS=Portland International Raceway(PIR) 1940 North Victory Boulevard Portland OR 97217 United States;X-APPLE-RADIUS=500;X-TITLE=1940 North Victory Boulevard:geo:-122.6867531,45.5966998
END:VEVENT
END:VCALENDAR