BEGIN:VCALENDAR
VERSION:2.0
PRODID:-//PNW Ride Network - ECPv6.15.12.2//NONSGML v1.0//EN
CALSCALE:GREGORIAN
METHOD:PUBLISH
X-WR-CALNAME:PNW Ride Network
X-ORIGINAL-URL:https://pnwridenetwork.com
X-WR-CALDESC:Events for PNW Ride Network
REFRESH-INTERVAL;VALUE=DURATION:PT1H
X-Robots-Tag:noindex
X-PUBLISHED-TTL:PT1H
BEGIN:VTIMEZONE
TZID:America/Los_Angeles
BEGIN:DAYLIGHT
TZOFFSETFROM:-0800
TZOFFSETTO:-0700
TZNAME:PDT
DTSTART:20250309T100000
END:DAYLIGHT
BEGIN:STANDARD
TZOFFSETFROM:-0700
TZOFFSETTO:-0800
TZNAME:PST
DTSTART:20251102T090000
END:STANDARD
BEGIN:DAYLIGHT
TZOFFSETFROM:-0800
TZOFFSETTO:-0700
TZNAME:PDT
DTSTART:20260308T100000
END:DAYLIGHT
BEGIN:STANDARD
TZOFFSETFROM:-0700
TZOFFSETTO:-0800
TZNAME:PST
DTSTART:20261101T090000
END:STANDARD
BEGIN:DAYLIGHT
TZOFFSETFROM:-0800
TZOFFSETTO:-0700
TZNAME:PDT
DTSTART:20270314T100000
END:DAYLIGHT
BEGIN:STANDARD
TZOFFSETFROM:-0700
TZOFFSETTO:-0800
TZNAME:PST
DTSTART:20271107T090000
END:STANDARD
END:VTIMEZONE
BEGIN:VEVENT
DTSTART;TZID=America/Los_Angeles:20260508T000000
DTEND;TZID=America/Los_Angeles:20260510T000000
DTSTAMP:20260423T021207
CREATED:20260203T021220Z
LAST-MODIFIED:20260224T154903Z
UID:10001114-1778198400-1778371200@pnwridenetwork.com
SUMMARY:Cycle Oregon Gravel Weekend
DESCRIPTION:
URL:https://pnwridenetwork.com/ridecalendar/cycle-oregon-gravel-weekend/
LOCATION:Wasco County Fairgrounds\, 81849 Fairgrounds Rd\, Tygh Valley\, OR\, 97063\, United States
CATEGORIES:Community Event,Gravel
ATTACH;FMTTYPE=image/jpeg:https://pnwridenetwork.com/wp-content/uploads/2026/02/Cycle_Oregon_GRAVEL_2026_Event_Page_Carosuel_7-1024x683-1.jpg
ORGANIZER;CN="Cycle Oregon":MAILTO:info@cycleoregon.com
GEO:45.2555387;-121.2078723
X-APPLE-STRUCTURED-LOCATION;VALUE=URI;X-ADDRESS=Wasco County Fairgrounds 81849 Fairgrounds Rd Tygh Valley OR 97063 United States;X-APPLE-RADIUS=500;X-TITLE=81849 Fairgrounds Rd:geo:-121.2078723,45.2555387
END:VEVENT
BEGIN:VEVENT
DTSTART;TZID=America/Los_Angeles:20260509T000000
DTEND;TZID=America/Los_Angeles:20260509T000000
DTSTAMP:20260423T021207
CREATED:20260203T021059Z
LAST-MODIFIED:20260330T175549Z
UID:10001102-1778284800-1778284800@pnwridenetwork.com
SUMMARY:Inland Empire Century
DESCRIPTION:
URL:https://pnwridenetwork.com/ridecalendar/inland-empire-century/
LOCATION:Camp Kiwanis\, 6007 Columbia Park Trail\, Kennewick\, WA\, 99336\, United States
CATEGORIES:Road
ATTACH;FMTTYPE=image/png:https://pnwridenetwork.com/wp-content/uploads/2026/02/Screenshot-2026-02-24-075352.png
GEO:46.2321638;-119.201377
X-APPLE-STRUCTURED-LOCATION;VALUE=URI;X-ADDRESS=Camp Kiwanis 6007 Columbia Park Trail Kennewick WA 99336 United States;X-APPLE-RADIUS=500;X-TITLE=6007 Columbia Park Trail:geo:-119.201377,46.2321638
END:VEVENT
BEGIN:VEVENT
DTSTART;TZID=America/Los_Angeles:20260509T000000
DTEND;TZID=America/Los_Angeles:20260509T000000
DTSTAMP:20260423T021207
CREATED:20260203T021059Z
LAST-MODIFIED:20260224T155125Z
UID:10001103-1778284800-1778284800@pnwridenetwork.com
SUMMARY:Skagit Spring Classic
DESCRIPTION:
URL:https://pnwridenetwork.com/ridecalendar/skagit-spring-classic/
LOCATION:Oregon
CATEGORIES:Road
ATTACH;FMTTYPE=image/png:https://pnwridenetwork.com/wp-content/uploads/2026/02/SSC-Banner_2026_507811669.png
END:VEVENT
BEGIN:VEVENT
DTSTART;TZID=America/Los_Angeles:20260509T000000
DTEND;TZID=America/Los_Angeles:20260509T235959
DTSTAMP:20260423T021207
CREATED:20260203T021914Z
LAST-MODIFIED:20260203T064453Z
UID:10001165-1778284800-1778371199@pnwridenetwork.com
SUMMARY:Coast Hills Classic MTB
DESCRIPTION:
URL:https://pnwridenetwork.com/ridecalendar/coast-hills-classic-mtb/
LOCATION:Wilder Trails\, 4590 SE Harborton St\, Newport\, OR\, 97366\, United States
CATEGORIES:Race
ATTACH;FMTTYPE=image/jpeg:https://pnwridenetwork.com/wp-content/uploads/2026/02/506181459_1189372929657857_2890575614057963850_n.jpg
GEO:44.6031805;-124.0432972
X-APPLE-STRUCTURED-LOCATION;VALUE=URI;X-ADDRESS=Wilder Trails 4590 SE Harborton St Newport OR 97366 United States;X-APPLE-RADIUS=500;X-TITLE=4590 SE Harborton St:geo:-124.0432972,44.6031805
END:VEVENT
END:VCALENDAR