BEGIN:VCALENDAR
VERSION:2.0
PRODID:-//PNW Ride Network - ECPv6.15.12.2//NONSGML v1.0//EN
CALSCALE:GREGORIAN
METHOD:PUBLISH
X-WR-CALNAME:PNW Ride Network
X-ORIGINAL-URL:https://pnwridenetwork.com
X-WR-CALDESC:Events for PNW Ride Network
REFRESH-INTERVAL;VALUE=DURATION:PT1H
X-Robots-Tag:noindex
X-PUBLISHED-TTL:PT1H
BEGIN:VTIMEZONE
TZID:America/Los_Angeles
BEGIN:DAYLIGHT
TZOFFSETFROM:-0800
TZOFFSETTO:-0700
TZNAME:PDT
DTSTART:20250309T100000
END:DAYLIGHT
BEGIN:STANDARD
TZOFFSETFROM:-0700
TZOFFSETTO:-0800
TZNAME:PST
DTSTART:20251102T090000
END:STANDARD
BEGIN:DAYLIGHT
TZOFFSETFROM:-0800
TZOFFSETTO:-0700
TZNAME:PDT
DTSTART:20260308T100000
END:DAYLIGHT
BEGIN:STANDARD
TZOFFSETFROM:-0700
TZOFFSETTO:-0800
TZNAME:PST
DTSTART:20261101T090000
END:STANDARD
BEGIN:DAYLIGHT
TZOFFSETFROM:-0800
TZOFFSETTO:-0700
TZNAME:PDT
DTSTART:20270314T100000
END:DAYLIGHT
BEGIN:STANDARD
TZOFFSETFROM:-0700
TZOFFSETTO:-0800
TZNAME:PST
DTSTART:20271107T090000
END:STANDARD
END:VTIMEZONE
BEGIN:VEVENT
DTSTART;TZID=America/Los_Angeles:20260425T000000
DTEND;TZID=America/Los_Angeles:20260425T235959
DTSTAMP:20260425T213622
CREATED:20260203T020438Z
LAST-MODIFIED:20260203T234124Z
UID:10001060-1777075200-1777161599@pnwridenetwork.com
SUMMARY:Levi’s Gran Fondo
DESCRIPTION:
URL:https://pnwridenetwork.com/ridecalendar/levis-gran-fondo/
LOCATION:Windsor Town Green\, 701 McClelland Dr\, Windsor\, CA\, 95492\, United States
CATEGORIES:Race,Road
ATTACH;FMTTYPE=image/jpeg:https://pnwridenetwork.com/wp-content/uploads/2026/02/JENNY-KELLER-PHOTOGRAPHY_DEFINITION-FILMS_LevisGranFondo_LGF0610-scaled.jpg
GEO:38.5486083;-122.8149542
X-APPLE-STRUCTURED-LOCATION;VALUE=URI;X-ADDRESS=Windsor Town Green 701 McClelland Dr Windsor CA 95492 United States;X-APPLE-RADIUS=500;X-TITLE=701 McClelland Dr:geo:-122.8149542,38.5486083
END:VEVENT
BEGIN:VEVENT
DTSTART;TZID=America/Los_Angeles:20260425T000000
DTEND;TZID=America/Los_Angeles:20260426T000000
DTSTAMP:20260425T213622
CREATED:20260203T020452Z
LAST-MODIFIED:20260325T220212Z
UID:10001063-1777075200-1777161600@pnwridenetwork.com
SUMMARY:Wildflower Century
DESCRIPTION:3 events found.	\n	\n		\n	\n\n		\n	\n\n		\n	\n\n	\n\n\n		\n		\n\n		\n	\n\nDiscover what’s happening across the Pacific Northwest.\n \n  \nThis calendar brings together rides\, races\, events\, advocacy opportunities and community gatherings from across the region. Use filters and tags to narrow down events by type\, discipline\, or location\, and click any event to see details and links. \n  \nHosting something? Use the Create an Event button to submit your ride or event and help grow this shared community calendar. Read: How to Submit Your Event to Our Calendar. \n\n   \n   \nCreate an Event\n   \n   \n\n\n		\n\n	\n	\n	\n	\n	\n\n	\n		Events Search and Views Navigation	\n\n			\n	\n	\n\n	\n		Search	\n\n\n		\n			\n	\n		\n\n		\n			\n	\n		Enter Keyword. Search for Events by Keyword.	\n	\n	\n	\n\n\n\n	\n		Enter Location. Search for Events by Location.	\n	\n	\n	\n\n\n		\n\n		\n	Find Events\n	\n\n		\n	\n	\n	\n		\n		\n			Hide filters		\n	\n\n\n	\n		Event Views Navigation	\n	\n		\n			\n				\n	\n\n			\n			\n				Map			\n			\n	\n\n		\n		\n	\n					\n	\n		\n			\n	\n	\n		\n		\n	\n	\n			\n		\n	\n	\n		\n			\n		\n		\n			\n		\n	\n\n		\n		\n			List		\n	\n\n					\n	\n		\n			\n	\n\n		\n		\n			Month		\n	\n\n					\n	\n		\n			\n	\n\n		\n		\n			Day		\n	\n\n					\n	\n		\n			\n	\n\n		\n		\n			Photo		\n	\n\n					\n	\n		\n			\n	\n\n		\n		\n			Week		\n	\n\n					\n	\n		\n			\n	\n\n		\n		\n			Map		\n	\n\n					\n	\n		\n			\n	\n\n		\n		\n			Summary		\n	\n\n			\n\n	\n\n\n\n\n	\n	\n\n	\n	\n		\n	\n		\n	\n\n	\n\n\n		\n	\n		\n	\n\n	\n\n	\n\n\n	\n	Today\n\n	\n	\n		\n							\n					1/1/1970				\n				\n					January 1\, 1970				\n					\n					 – \n			\n				\n					1/26/2026				\n				\n					January 26				\n			\n				\n	\n\n	\n	\n		Select date.	\n	\n	\n	\n		\n	\n\n	\n	\n		\n	\n\n	\n\n\n	\n	\n	\n\n\n\n\n		\n	\n\n		\n			Filters		\n\n		\n			Changing any of the form inputs will cause the list of events to refresh with the filtered results.		 \n\n		\n		\n	\n		Done	\n	\n	\n	\n\n	\n		Clear	\n\n\n\n		\n	\n					\n	\n		\n			\n			\n				Event Category:\n								\n									\n			\n\n			\n				\n	\n\n				\n					Open filter				\n			\n\n			\n				\n	\n\n				\n					Close filter				\n			\n			\n		\n			\n\n\n	\n		\n			\n				Event Category			\n\n			\n			\n				\n	\n\n			\n		\n	\n\n					\n	\n		\n			\n			\n				Tags:\n								\n									\n			\n\n			\n				\n	\n\n				\n					Open filter				\n			\n\n			\n				\n	\n\n				\n					Close filter				\n			\n			\n		\n			\n\n\n	\n		\n			\n				Tags			\n\n			\n			\n				\n	\n	\n		20–40 miles	\n\n\n	\n	\n		40–80 miles	\n\n\n	\n	\n		Advanced	\n\n\n	\n	\n		Advocacy	\n\n\n	\n	\n		Beginner-friendly	\n\n\n	\n	\n		Charity	\n\n\n	\n	\n		E-Bike Friendly	\n\n\n	\n	\n		Group Ride	\n\n\n	\n	\n		Intermediate	\n\n\n	\n	\n		Kid-friendly	\n\n\n	\n	\n		Mulipe Distances	\n\n\n	\n	\n		Scenic	\n\n\n	\n	\n		Supported	\n\n\n	\n	\n		Under 20 miles	\n\n			\n		\n	\n\n					\n	\n		\n			\n			\n				City:\n								\n									\n			\n\n			\n				\n	\n\n				\n					Open filter				\n			\n\n			\n				\n	\n\n				\n					Close filter				\n			\n			\n		\n			\n\n\n	\n		\n			\n				City			\n\n			\n			\n				\n	\n\n			\n		\n	\n\n					\n	\n		\n			\n			\n				State/Province:\n								\n									\n			\n\n			\n				\n	\n\n				\n					Open filter				\n			\n\n			\n				\n	\n\n				\n					Close filter				\n			\n			\n		\n			\n\n\n	\n		\n			\n				State/Province			\n\n			\n			\n				\n	\n\n			\n		\n	\n\n					\n	\n		\n			\n			\n				Featured Events:\n								\n									\n			\n\n			\n				\n	\n\n				\n					Open filter				\n			\n\n			\n				\n	\n\n				\n					Close filter				\n			\n			\n		\n			\n\n\n	\n		\n			\n				Featured Events			\n\n			\n			\n				\n	\n\n			\n		\n	\n\n					\n	\n		\n			\n			\n				Date From:\n								\n									\n			\n\n			\n				\n	\n\n				\n					Open filter				\n			\n\n			\n				\n	\n\n				\n					Close filter				\n			\n			\n		\n			\n\n\n	\n		\n			\n				Date From			\n\n			\n			\n				\n\n	\n\n			\n		\n	\n\n					\n	\n		\n			\n			\n				Date To:\n								\n									\n			\n\n			\n				\n	\n\n				\n					Open filter				\n			\n\n			\n				\n	\n\n				\n					Close filter				\n			\n			\n		\n			\n\n\n	\n		\n			\n				Date To			\n\n			\n			\n				\n\n	\n\n			\n		\n	\n\n					\n	\n		\n			\n			\n				Event Status:\n								\n									\n			\n\n			\n				\n	\n\n				\n					Open filter				\n			\n\n			\n				\n	\n\n				\n					Close filter				\n			\n			\n		\n			\n\n\n	\n		\n			\n				Event Status			\n\n			\n			\n				\n	\n	\n		Hide canceled events	\n\n\n	\n	\n		Hide postponed events	\n\n\n	\n	\n		Show only moved online events	\n\n			\n		\n	\n\n					\n	\n		\n			\n			\n				Series:\n								\n									\n			\n\n			\n				\n	\n\n				\n					Open filter				\n			\n\n			\n				\n	\n\n				\n					Close filter				\n			\n			\n		\n			\n\n\n	\n		\n			\n				Series			\n\n			\n			\n				\n	\n\n			\n		\n	\n\n			\n\n\n		\n	\n\n\n\n\n					\n				\n	\n	\n\n	\n			\n			\n				Close modal			\n			\n				\n	\n\n			\n		\n	\n	\n		\n			\n	\n\n		\n\n		\n			This event does not have a mappable address.		 \n\n		\n			View Event Details		\n	\n\n\n				\n\n	\n		\n											\n\n	\n		\n			\n\n				\n	\n		\n			Jan		\n		\n			26		\n	\n\n\n				\n	\n\n		\n\n			\n		\n					12:00 am			\n		\n			\n	Low Gap\n			\n\n	\n					\n				Gravel	\n\n			\n	\n		Ukiah Valley Golf Course	\n	\n		599 Park Blvd\, 					Ukiah			\n	\n			\n			\n					\n	Event Details\n		\n	Get Directions\n	\n\n		\n\n		\n	\n\n\n			\n		\n	\n\n	\n		\n			\n				\n					\n						\n					\n	Event Details\n		\n	Get Directions\n\n	\n					\n				\n			\n		\n	\n\n	\n\n\n											\n\n	\n		\n			\n\n				\n	\n		\n			May		\n		\n			9		\n	\n\n\n				\n	\n\n		\n\n			\n		\n					All Day			\n		\n			\n	Barton Park Road Race\n			\n\n	\n					\n				Race	\n\n			\n	\n		Barton Park	\n	\n		19009 SE Barton Park Rd\, 					Boring			\n	\n			\n			\n					\n	Event Details\n		\n	Get Directions\n	\n\n		\n\n		\n	\n\n\n			\n		\n	\n\n	\n		\n			\n				\n					\n						\n					\n	Event Details\n		\n	Get Directions\n\n	\n					\n				\n			\n		\n	\n\n	\n\n\n											\n\n	\n		\n			\n\n				\n	\n		\n			Jan		\n		\n			1		\n	\n\n\n				\n	\n\n		\n\n			\n		\n					12:00 am			\n		\n			\n	Oak Hill School Supercross\n			\n\n	\n					\n				Cyclocross	\n\n			\n	\n		Oak Hill School	\n	\n		86397 Eldon Schafer Dr\, 					Eugene			\n	\n			\n			\n					\n	Event Details\n		\n	Get Directions\n	\n\n		\n\n		\n	\n\n\n			\n		\n	\n\n	\n		\n			\n				\n					\n						\n					\n	Event Details\n		\n	Get Directions\n\n	\n					\n				\n			\n		\n	\n\n	\n\n\n					\n	\n\n	\n	\n		\n	\n		\n	\n\n		\n			Previous Events		\n	\n\n\n		\n	\n		Today	\n\n\n		\n	\n		\n			Next Events		\n		\n	\n\n	\n\n	\n\n\n\n			\n		\n		\n	\n		\n			\n				Subscribe to calendar			\n			\n	\n\n		\n		\n			\n									\n\n	\n		Google Calendar	\n\n									\n\n	\n		iCalendar	\n\n									\n\n	\n		Outlook 365	\n\n									\n\n	\n		Outlook Live	\n\n									\n\n	\n		Export .ics file	\n\n									\n\n	\n		Export Outlook .ics file	\n\n							\n		\n	\n\n\n		\n	 \nPNW Ride Network is a volunteer-run community calendar. Event details are provided by volunteers or organizers and may change. Please confirm details directly with the event source.\n \n   \n   
URL:https://pnwridenetwork.com/ridecalendar/wildflower-century/
LOCATION:Silver Dollar Fairgrounds\, 2357 Fair St\, Chico\, CA\, 95928\, United States
CATEGORIES:Road
ATTACH;FMTTYPE=image/jpeg:https://pnwridenetwork.com/wp-content/uploads/2026/02/website-cover-2.jpg
ORGANIZER;CN="Chico Velo":MAILTO:info@chicovelo.org
GEO:39.7174932;-121.8126605
X-APPLE-STRUCTURED-LOCATION;VALUE=URI;X-ADDRESS=Silver Dollar Fairgrounds 2357 Fair St Chico CA 95928 United States;X-APPLE-RADIUS=500;X-TITLE=2357 Fair St:geo:-121.8126605,39.7174932
END:VEVENT
BEGIN:VEVENT
DTSTART;TZID=America/Los_Angeles:20260426T000000
DTEND;TZID=America/Los_Angeles:20260426T000000
DTSTAMP:20260425T213623
CREATED:20260203T021011Z
LAST-MODIFIED:20260222T145506Z
UID:10001100-1777161600-1777161600@pnwridenetwork.com
SUMMARY:McClinchy Mile
DESCRIPTION:
URL:https://pnwridenetwork.com/ridecalendar/mcclinchy-mile/
LOCATION:Stanwood Middle School\, 9405 271st St NW\, Stanwood\, WA\, 98292\, United States
CATEGORIES:Road
ATTACH;FMTTYPE=image/png:https://pnwridenetwork.com/wp-content/uploads/2026/02/McClinchy_Official_Logo_smaller.png
GEO:48.2425654;-122.3611469
X-APPLE-STRUCTURED-LOCATION;VALUE=URI;X-ADDRESS=Stanwood Middle School 9405 271st St NW Stanwood WA 98292 United States;X-APPLE-RADIUS=500;X-TITLE=9405 271st St NW:geo:-122.3611469,48.2425654
END:VEVENT
BEGIN:VEVENT
DTSTART;TZID=America/Los_Angeles:20260426T000000
DTEND;TZID=America/Los_Angeles:20260426T000000
DTSTAMP:20260425T213623
CREATED:20260203T020439Z
LAST-MODIFIED:20260330T225947Z
UID:10001062-1777161600-1777161600@pnwridenetwork.com
SUMMARY:Gorge Gravel Grinder
DESCRIPTION:
URL:https://pnwridenetwork.com/ridecalendar/gorge-gravel-grinder/
LOCATION:Friends of Dufur Park Inc\, 200 Park Loop Rd\, Dufur\, OR\, 97021\, United States
CATEGORIES:Gravel,Race
ATTACH;FMTTYPE=image/avif:https://pnwridenetwork.com/wp-content/uploads/2026/02/dcf7ee_f205c42eb4144a91a8ae8c21ff3fdf5cmv2.avif
ORGANIZER;CN="Breakaway Promotions":MAILTO:grinderinfo@breakawaypro.com
GEO:45.4504178;-121.1268796
X-APPLE-STRUCTURED-LOCATION;VALUE=URI;X-ADDRESS=Friends of Dufur Park Inc 200 Park Loop Rd Dufur OR 97021 United States;X-APPLE-RADIUS=500;X-TITLE=200 Park Loop Rd:geo:-121.1268796,45.4504178
END:VEVENT
BEGIN:VEVENT
DTSTART;TZID=America/Los_Angeles:20260426T000000
DTEND;TZID=America/Los_Angeles:20260426T000000
DTSTAMP:20260425T213623
CREATED:20260203T020439Z
LAST-MODIFIED:20260222T144627Z
UID:10001061-1777161600-1777161600@pnwridenetwork.com
SUMMARY:Monster Cookie Metric Century
DESCRIPTION:
URL:https://pnwridenetwork.com/ridecalendar/monster-cookie-metric-century/
LOCATION:McNary High School\, 595 Chemawa Rd N\, Keizer\, OR\, 97303\, United States
CATEGORIES:Road
ATTACH;FMTTYPE=image/jpeg:https://pnwridenetwork.com/wp-content/uploads/2026/02/FB-Monster-Cookie-2025-8_958533885-scaled.jpg
ORGANIZER;CN="Salem Bicycle Club":MAILTO:See website
GEO:45.000744;-123.0336326
X-APPLE-STRUCTURED-LOCATION;VALUE=URI;X-ADDRESS=McNary High School 595 Chemawa Rd N Keizer OR 97303 United States;X-APPLE-RADIUS=500;X-TITLE=595 Chemawa Rd N:geo:-123.0336326,45.000744
END:VEVENT
END:VCALENDAR