BEGIN:VCALENDAR
VERSION:2.0
PRODID:-//PNW Ride Network - ECPv6.15.12.2//NONSGML v1.0//EN
CALSCALE:GREGORIAN
METHOD:PUBLISH
X-WR-CALNAME:PNW Ride Network
X-ORIGINAL-URL:https://pnwridenetwork.com
X-WR-CALDESC:Events for PNW Ride Network
REFRESH-INTERVAL;VALUE=DURATION:PT1H
X-Robots-Tag:noindex
X-PUBLISHED-TTL:PT1H
BEGIN:VTIMEZONE
TZID:America/Los_Angeles
BEGIN:DAYLIGHT
TZOFFSETFROM:-0800
TZOFFSETTO:-0700
TZNAME:PDT
DTSTART:20250309T100000
END:DAYLIGHT
BEGIN:STANDARD
TZOFFSETFROM:-0700
TZOFFSETTO:-0800
TZNAME:PST
DTSTART:20251102T090000
END:STANDARD
BEGIN:DAYLIGHT
TZOFFSETFROM:-0800
TZOFFSETTO:-0700
TZNAME:PDT
DTSTART:20260308T100000
END:DAYLIGHT
BEGIN:STANDARD
TZOFFSETFROM:-0700
TZOFFSETTO:-0800
TZNAME:PST
DTSTART:20261101T090000
END:STANDARD
BEGIN:DAYLIGHT
TZOFFSETFROM:-0800
TZOFFSETTO:-0700
TZNAME:PDT
DTSTART:20270314T100000
END:DAYLIGHT
BEGIN:STANDARD
TZOFFSETFROM:-0700
TZOFFSETTO:-0800
TZNAME:PST
DTSTART:20271107T090000
END:STANDARD
END:VTIMEZONE
BEGIN:VEVENT
DTSTART;TZID=America/Los_Angeles:20260708T000000
DTEND;TZID=America/Los_Angeles:20260708T235959
DTSTAMP:20260420T011219
CREATED:20260203T022057Z
LAST-MODIFIED:20260203T071916Z
UID:10001252-1783468800-1783555199@pnwridenetwork.com
SUMMARY:Bend Summer Criterium Series
DESCRIPTION:
URL:https://pnwridenetwork.com/ridecalendar/bend-summer-criterium-series/2026-07-08/
LOCATION:Downtown Bend Criterium Course\, 835 NW Wall St\, Bend\, OR\, 97703\, United States
CATEGORIES:Criterium,Race
ATTACH;FMTTYPE=image/webp:https://pnwridenetwork.com/wp-content/uploads/2026/02/IMG_3036.webp
GEO:44.0581728;-121.3153096
X-APPLE-STRUCTURED-LOCATION;VALUE=URI;X-ADDRESS=Downtown Bend Criterium Course 835 NW Wall St Bend OR 97703 United States;X-APPLE-RADIUS=500;X-TITLE=835 NW Wall St:geo:-121.3153096,44.0581728
END:VEVENT
BEGIN:VEVENT
DTSTART;TZID=America/Los_Angeles:20260708T000000
DTEND;TZID=America/Los_Angeles:20260712T000000
DTSTAMP:20260420T011220
CREATED:20260203T020832Z
LAST-MODIFIED:20260203T020832Z
UID:10001077-1783468800-1783814400@pnwridenetwork.com
SUMMARY:Oregon Trail Gravel
DESCRIPTION:
URL:https://pnwridenetwork.com/ridecalendar/oregon-trail-gravel/
LOCATION:Oregon
CATEGORIES:Gravel,Race,Stage-Race
ORGANIZER;CN="Breakaway Promotions":MAILTO:grinderinfo@breakawaypro.com
END:VEVENT
END:VCALENDAR